BEGIN:VCALENDAR
VERSION:2.0
PRODID:-//Luke Fleming - ECPv6.15.1.1//NONSGML v1.0//EN
CALSCALE:GREGORIAN
METHOD:PUBLISH
X-WR-CALNAME:Luke Fleming
X-ORIGINAL-URL:https://lukefleming.com
X-WR-CALDESC:Events for Luke Fleming
REFRESH-INTERVAL;VALUE=DURATION:PT1H
X-Robots-Tag:noindex
X-PUBLISHED-TTL:PT1H
BEGIN:VTIMEZONE
TZID:America/New_York
BEGIN:DAYLIGHT
TZOFFSETFROM:-0500
TZOFFSETTO:-0400
TZNAME:EDT
DTSTART:20190310T070000
END:DAYLIGHT
BEGIN:STANDARD
TZOFFSETFROM:-0400
TZOFFSETTO:-0500
TZNAME:EST
DTSTART:20191103T060000
END:STANDARD
BEGIN:DAYLIGHT
TZOFFSETFROM:-0500
TZOFFSETTO:-0400
TZNAME:EDT
DTSTART:20200308T070000
END:DAYLIGHT
BEGIN:STANDARD
TZOFFSETFROM:-0400
TZOFFSETTO:-0500
TZNAME:EST
DTSTART:20201101T060000
END:STANDARD
END:VTIMEZONE
BEGIN:VTIMEZONE
TZID:America/Vancouver
BEGIN:DAYLIGHT
TZOFFSETFROM:-0800
TZOFFSETTO:-0700
TZNAME:PDT
DTSTART:20200308T100000
END:DAYLIGHT
BEGIN:STANDARD
TZOFFSETFROM:-0700
TZOFFSETTO:-0800
TZNAME:PST
DTSTART:20201101T090000
END:STANDARD
END:VTIMEZONE
BEGIN:VTIMEZONE
TZID:America/Los_Angeles
BEGIN:DAYLIGHT
TZOFFSETFROM:-0800
TZOFFSETTO:-0700
TZNAME:PDT
DTSTART:20190310T100000
END:DAYLIGHT
BEGIN:STANDARD
TZOFFSETFROM:-0700
TZOFFSETTO:-0800
TZNAME:PST
DTSTART:20191103T090000
END:STANDARD
END:VTIMEZONE
BEGIN:VTIMEZONE
TZID:America/Phoenix
BEGIN:STANDARD
TZOFFSETFROM:-0700
TZOFFSETTO:-0700
TZNAME:MST
DTSTART:20190101T000000
END:STANDARD
END:VTIMEZONE
BEGIN:VTIMEZONE
TZID:America/Chicago
BEGIN:DAYLIGHT
TZOFFSETFROM:-0600
TZOFFSETTO:-0500
TZNAME:CDT
DTSTART:20190310T080000
END:DAYLIGHT
BEGIN:STANDARD
TZOFFSETFROM:-0500
TZOFFSETTO:-0600
TZNAME:CST
DTSTART:20191103T070000
END:STANDARD
END:VTIMEZONE
BEGIN:VEVENT
DTSTART;TZID=America/New_York:20200319T193000
DTEND;TZID=America/New_York:20200319T213000
DTSTAMP:20260425T230250
CREATED:20190625T221300Z
LAST-MODIFIED:20190626T012114Z
UID:797-1584646200-1584653400@lukefleming.com
SUMMARY:Recital with Kim Kashkashian and the Manhattan Chamber Players at Holy Trinity Lutheran Church - NYC
DESCRIPTION:For more information on this event\, please click here. \nFor more information on the Manhattan Chamber Players\, please click here.
URL:https://lukefleming.com/calendar/hidden-gems-kim-kashkashian-manhattan-chamber-players-holy-trinity-lutheran-church-nyc/
LOCATION:Holy Trinity Lutheran Church\, 3 W. 65th St.\, New York\, NY\, 10023\, United States
ATTACH;FMTTYPE=image/jpeg:https://lukefleming.com/wp-content/uploads/2018/09/05-MCP-Logo.jpg
END:VEVENT
BEGIN:VEVENT
DTSTART;TZID=America/Vancouver:20200315T150000
DTEND;TZID=America/Vancouver:20200315T170000
DTSTAMP:20260425T230250
CREATED:20190314T182155Z
LAST-MODIFIED:20190314T182155Z
UID:772-1584284400-1584291600@lukefleming.com
SUMMARY:Recital with the Manhattan Chamber Players for the Vancouver Chamber Music Society - Coquitlam\, BC\, Canada
DESCRIPTION:For more information on the Manhattan Chamber Players\, please click here. \nFor more information on this concert\, please click here.
URL:https://lukefleming.com/calendar/recital-manhattan-chamber-players-vancouver-chamber-music-society-coquitlam-bc-canada/
LOCATION:Evergreen Cultural Centre\, 1205 Pinetree Way\, Coquitlam\, BC\, V3B 7Y3)\, Canada
ATTACH;FMTTYPE=image/png:https://lukefleming.com/wp-content/uploads/2019/03/VCMS.png
END:VEVENT
BEGIN:VEVENT
DTSTART;TZID=America/Vancouver:20200314T193000
DTEND;TZID=America/Vancouver:20200314T213000
DTSTAMP:20260425T230250
CREATED:20190314T181753Z
LAST-MODIFIED:20190314T181753Z
UID:769-1584214200-1584221400@lukefleming.com
SUMMARY:Recital with the Manhattan Chamber Players for the Vancouver Chamber Music Society - West Vancouver\, BC\, Canada
DESCRIPTION:For more information on the Manhattan Chamber Players\, please click here. \nFor more information on this concert\, please click here.
URL:https://lukefleming.com/calendar/vcms/
LOCATION:West Vancouver United Church\, 2062 Esquimalt Ave.\, West Vancouver\, BC\, V7V 1S4\, Canada
ATTACH;FMTTYPE=image/png:https://lukefleming.com/wp-content/uploads/2019/03/VCMS.png
END:VEVENT
BEGIN:VEVENT
DTSTART;TZID=America/Vancouver:20200313T193000
DTEND;TZID=America/Vancouver:20200313T213000
DTSTAMP:20260425T230250
CREATED:20190314T181038Z
LAST-MODIFIED:20190314T181101Z
UID:766-1584127800-1584135000@lukefleming.com
SUMMARY:Recital with the Manhattan Chamber Players for Valley Concert Society - Abbotsford\, BC\, Canada
DESCRIPTION:For more information on the Manhattan Chamber Players\, please click here. \nFor more information on this concert\, please click here.
URL:https://lukefleming.com/calendar/recital-valley-concert-society-abbotsford-bc-canada/
LOCATION:Matsqui Centennial Auditorium\, 32315 South Fraser Way\,\, Abbotsford\, BC\, V2T 1W7\, Canada
ATTACH;FMTTYPE=image/jpeg:https://lukefleming.com/wp-content/uploads/2019/03/valley-CS.jpg
END:VEVENT
BEGIN:VEVENT
DTSTART;TZID=America/New_York:20200303T193000
DTEND;TZID=America/New_York:20200303T213000
DTSTAMP:20260425T230250
CREATED:20180430T023115Z
LAST-MODIFIED:20180430T023115Z
UID:696-1583263800-1583271000@lukefleming.com
SUMMARY:Recital with the Manhattan Chamber Players for Sanibel Music Festival - Sanibel Island\, FL
DESCRIPTION:For more information on the Sanibel Music Festival\, click here. \nFor more information on the Manhattan Chamber Players\, click here.
URL:https://lukefleming.com/calendar/recital-manhattan-chamber-players-sanibel-music-festival-sanibel-island-fl/
LOCATION:Sanibel Congregational United Church of Christ\, 2050 Periwinkle Way\, Sanibel Island\, FL\, 33957 \, United States
ATTACH;FMTTYPE=image/png:https://lukefleming.com/wp-content/uploads/2018/04/Sanibel-Music-Festival.png
END:VEVENT
BEGIN:VEVENT
DTSTART;TZID=America/New_York:20200302T193000
DTEND;TZID=America/New_York:20200302T213000
DTSTAMP:20260425T230250
CREATED:20190611T213619Z
LAST-MODIFIED:20190611T213619Z
UID:789-1583177400-1583184600@lukefleming.com
SUMMARY:Recital for Timucua Arts Foundation - Orlando\, FL
DESCRIPTION:For more information on this event\, please click here. \nFor more information on the Manhattan Chamber Players\, please click here.
URL:https://lukefleming.com/calendar/recital-timucua-arts-foundation-orlando-fl/
LOCATION:Timucua\, 2000 S. Summerlin Ave.\, Orlando\, FL\, 32806\, United States
ATTACH;FMTTYPE=image/jpeg:https://lukefleming.com/wp-content/uploads/2019/06/Timucua.jpeg
END:VEVENT
BEGIN:VEVENT
DTSTART;VALUE=DATE:20200201
DTEND;VALUE=DATE:20200217
DTSTAMP:20260425T230250
CREATED:20191107T162021Z
LAST-MODIFIED:20191107T162021Z
UID:825-1580515200-1581897599@lukefleming.com
SUMMARY:Artist and Ensemble-in-Residence with the Manhattan Chamber Players at the Festival de Febrero - Ajijic\, Mexico
DESCRIPTION:For more information about the Festival de Febrero\, please click here. \nFor more information about the Manhattan Chamber Players\, please click here.
URL:https://lukefleming.com/calendar/artist-ensemble-residence-manhattan-chamber-players-festival-de-febrero-ajijic-mexico/
LOCATION:Unnamed Venue\, Ajijic\, Mexico
ATTACH;FMTTYPE=image/jpeg:https://lukefleming.com/wp-content/uploads/2016/11/FF.jpg
END:VEVENT
BEGIN:VEVENT
DTSTART;TZID=America/New_York:20200130T193000
DTEND;TZID=America/New_York:20200130T213000
DTSTAMP:20260425T230250
CREATED:20190624T155544Z
LAST-MODIFIED:20190626T014453Z
UID:793-1580412600-1580419800@lukefleming.com
SUMMARY:Recital with Wolfram Koessel and the Manhattan Chamber Players at Baruch Performing Arts Center\, NYC
DESCRIPTION:For more information on this event\, please click here. \nFor more information on the Manhattan Chamber Players\, please click here.
URL:https://lukefleming.com/calendar/recital-wolfgang-schlosser-manhattan-chamber-players-baruch-performing-arts-center-nyc/
LOCATION:Engelman Recital Hall\, Baruch Performing Arts Center\, 55 Lexington Ave.\, New York\, NY\, 10010\, United States
ATTACH;FMTTYPE=image/jpeg:https://lukefleming.com/wp-content/uploads/2016/09/05-MCP-Logo.jpg
END:VEVENT
BEGIN:VEVENT
DTSTART;TZID=America/New_York:20200126T140000
DTEND;TZID=America/New_York:20200126T150000
DTSTAMP:20260425T230250
CREATED:20190510T001946Z
LAST-MODIFIED:20190510T001946Z
UID:782-1580047200-1580050800@lukefleming.com
SUMMARY:Recital with the Manhattan Chamber Players at Ossining Public Library - Ossining\, NY
DESCRIPTION:For more information about this concert\, click here. \nFor more information about the Manhattan Chamber Players\, click here.
URL:https://lukefleming.com/calendar/recital-manhattan-chamber-players-ossining-public-library-ossining-ny/
LOCATION:AZ
ATTACH;FMTTYPE=image/jpeg:https://lukefleming.com/wp-content/uploads/2017/03/OPL.jpg
END:VEVENT
BEGIN:VEVENT
DTSTART;TZID=America/New_York:20191119T193000
DTEND;TZID=America/New_York:20191119T213000
DTSTAMP:20260425T230250
CREATED:20190625T215255Z
LAST-MODIFIED:20190626T015207Z
UID:794-1574191800-1574199000@lukefleming.com
SUMMARY:Recital with the Manhattan Chamber Players for Project: Music Heals Us on Tour - NYC
DESCRIPTION:For more information on this event\, please click here. \nFor more information on the Manhattan Chamber Players\, please click here. \nFor more information on Project: Music Heals Us\, please click here.
URL:https://lukefleming.com/calendar/red-death-pmhu-mcp/
LOCATION:Holy Trinity Lutheran Church\, 3 W. 65th St.\, New York\, NY\, 10023\, United States
ATTACH;FMTTYPE=image/jpeg:https://lukefleming.com/wp-content/uploads/2019/06/PMHU.jpg
END:VEVENT
BEGIN:VEVENT
DTSTART;VALUE=DATE:20191116
DTEND;VALUE=DATE:20191125
DTSTAMP:20260425T230250
CREATED:20190625T224227Z
LAST-MODIFIED:20190625T224227Z
UID:802-1573862400-1574639999@lukefleming.com
SUMMARY:U.S. Tour with Project: Music Heals Us
DESCRIPTION:For more information on Project: Music Heals Us\, please click here.
URL:https://lukefleming.com/calendar/tour-project-music-heals-us/
LOCATION:AZ
ATTACH;FMTTYPE=image/jpeg:https://lukefleming.com/wp-content/uploads/2019/06/PMHU.jpg
END:VEVENT
BEGIN:VEVENT
DTSTART;TZID=America/New_York:20191110T170000
DTEND;TZID=America/New_York:20191110T190000
DTSTAMP:20260425T230250
CREATED:20191107T155532Z
LAST-MODIFIED:20191107T155532Z
UID:819-1573405200-1573412400@lukefleming.com
SUMMARY:Concert with the New York Classical Players - New York\, NY
DESCRIPTION:For more information on the New York Classical Players\, please click here.
URL:https://lukefleming.com/calendar/concert-new-york-classical-players-new-york-ny/
LOCATION:Broadway Presbyterian Church\, 601 W. 114th St.\, New York\, NY\, 10025\, United States
ATTACH;FMTTYPE=image/png:https://lukefleming.com/wp-content/uploads/2016/09/NYCP.png
END:VEVENT
BEGIN:VEVENT
DTSTART;TZID=America/New_York:20191109T200000
DTEND;TZID=America/New_York:20191109T220000
DTSTAMP:20260425T230250
CREATED:20191107T155336Z
LAST-MODIFIED:20191107T155336Z
UID:817-1573329600-1573336800@lukefleming.com
SUMMARY:Concert with New York Classical Players - Ridgewood\, NJ
DESCRIPTION:For more information on the New York Classical Players\, please click here.
URL:https://lukefleming.com/calendar/concert-new-york-classical-players-2/
LOCATION:West Side Presbyterian Church\, 6 South Monroe St.\, Ridgewood\, NJ\, 07450\, United States
ATTACH;FMTTYPE=image/png:https://lukefleming.com/wp-content/uploads/2016/09/NYCP.png
END:VEVENT
BEGIN:VEVENT
DTSTART;TZID=America/New_York:20191107T193000
DTEND;TZID=America/New_York:20191107T213000
DTSTAMP:20260425T230250
CREATED:20191104T195851Z
LAST-MODIFIED:20191104T195851Z
UID:811-1573155000-1573162200@lukefleming.com
SUMMARY:Recital with the Escher Quartet at Jorgensen Center for the Performing Arts - Storrs\, CT
DESCRIPTION:For more information on this event\, please click here. \nFor more information on the Escher Quartet\, please click here.
URL:https://lukefleming.com/calendar/recital-escher-string-quartet-jorgensen-center-performing-arts-storrs-ct/
LOCATION:Jorgensen Center for the Performing Arts\, 2132 Hillside Rd.\, Storrs\, CT\, 06269\, United States
ATTACH;FMTTYPE=image/jpeg:https://lukefleming.com/wp-content/uploads/2019/11/Jorgensen-full-LOGO-2.jpg
END:VEVENT
BEGIN:VEVENT
DTSTART;TZID=America/Los_Angeles:20191020T160000
DTEND;TZID=America/Los_Angeles:20191020T180000
DTSTAMP:20260425T230250
CREATED:20190625T225151Z
LAST-MODIFIED:20190625T225152Z
UID:805-1571587200-1571594400@lukefleming.com
SUMMARY:Recital for the Gold Coast Chamber Players - Piedmont\, CA
DESCRIPTION:For more information on the Gold Coast Chamber Players\, please click here.
URL:https://lukefleming.com/calendar/recital-gold-coast-chamber-players-piedmont-ca/
LOCATION:Piedmont Center for the Arts\, 801 Magnolia Ave.\, Piedmont\, CA\, 94611\, United States
ATTACH;FMTTYPE=image/jpeg:https://lukefleming.com/wp-content/uploads/2018/02/Gold-Coast.jpeg
END:VEVENT
BEGIN:VEVENT
DTSTART;TZID=America/Los_Angeles:20191019T193000
DTEND;TZID=America/Los_Angeles:20191019T213000
DTSTAMP:20260425T230250
CREATED:20190625T224945Z
LAST-MODIFIED:20190625T224945Z
UID:803-1571513400-1571520600@lukefleming.com
SUMMARY:Recital for the Gold Coast Chamber Players - Lafayette\, CA
DESCRIPTION:For more information on the Gold Coast Chamber Players\, please click here.
URL:https://lukefleming.com/calendar/recital-gold-coast-chamber-players-bay-area-ca/
LOCATION:Community Hall\, Lafayette Library\, 3491 Mt. Diablo Blvd.\, Lafayette\, CA\, 94549\, United States
ATTACH;FMTTYPE=image/jpeg:https://lukefleming.com/wp-content/uploads/2018/02/Gold-Coast.jpeg
END:VEVENT
BEGIN:VEVENT
DTSTART;VALUE=DATE:20191003
DTEND;VALUE=DATE:20191017
DTSTAMP:20260425T230250
CREATED:20190314T182500Z
LAST-MODIFIED:20190314T182500Z
UID:774-1570060800-1571270399@lukefleming.com
SUMMARY:Artistic Director and Violist at the Crescent City Chamber Music Festival - New Orleans\, LA
DESCRIPTION:For more information on the Crescent City Chamber Music Festival\, please click here.
URL:https://lukefleming.com/calendar/artistic-director-violist-crescent-city-chamber-music-festival-new-orleans-la-2/
LOCATION:Unnamed Venue\, New Orleans\, LA\, LA\, United States
ATTACH;FMTTYPE=image/png:https://lukefleming.com/wp-content/uploads/2018/02/CCCMF-logo-blue-without-dates-SMALL.png
END:VEVENT
BEGIN:VEVENT
DTSTART;TZID=America/New_York:20190917T193000
DTEND;TZID=America/New_York:20190917T213000
DTSTAMP:20260425T230250
CREATED:20190624T154933Z
LAST-MODIFIED:20190626T015139Z
UID:792-1568748600-1568755800@lukefleming.com
SUMMARY:Recital with Carmit Zori and the Manhattan Chamber Players at Baruch Performing Arts Center\, NYC
DESCRIPTION:For more information on this event\, please click here. \nFor more information on the Manhattan Chamber Players\, please click here.
URL:https://lukefleming.com/calendar/recital-carmit-zori-manhattan-chamber-players-baruch-performing-arts-center-nyc/
LOCATION:Engelman Recital Hall\, Baruch Performing Arts Center\, 55 Lexington Ave.\, New York\, NY\, 10010\, United States
ATTACH;FMTTYPE=image/jpeg:https://lukefleming.com/wp-content/uploads/2016/09/05-MCP-Logo.jpg
END:VEVENT
BEGIN:VEVENT
DTSTART;TZID=America/New_York:20190915T163000
DTEND;TZID=America/New_York:20190915T183000
DTSTAMP:20260425T230250
CREATED:20180430T022114Z
LAST-MODIFIED:20180430T022114Z
UID:691-1568565000-1568572200@lukefleming.com
SUMMARY:Recital with the Manhattan Chamber Players for Red Bank Chamber Music Society - Red Bank\, NJ
DESCRIPTION:For more information on the Red Bank Chamber Music Society\, click here. \nFor more information on the Manhattan Chamber Players\, click here.
URL:https://lukefleming.com/calendar/recital-manhattan-chamber-players-red-bank-chamber-music-society-red-bank-nj/
LOCATION:Trinity Church Auditorium\, 50 White Street\, Red Bank\, NJ\, 07701\, United States
ATTACH;FMTTYPE=image/png:https://lukefleming.com/wp-content/uploads/2018/04/Red-Bank.png
END:VEVENT
BEGIN:VEVENT
DTSTART;TZID=America/Phoenix:20190907T193000
DTEND;TZID=America/Phoenix:20190907T213000
DTSTAMP:20260425T230250
CREATED:20190810T014506Z
LAST-MODIFIED:20190810T014506Z
UID:809-1567884600-1567891800@lukefleming.com
SUMMARY:Recital with the Manhattan Chamber Players for the Grand Canyon Music Festival - Grand Canyon Village\, AZ
DESCRIPTION:For more information on this event\, please click here. \nFor more information on the Manhattan Chamber Players\, please click here. \nFor more information on the Grand Canyon Music Festival\, please click here.
URL:https://lukefleming.com/calendar/gcmf-mcp-2/
LOCATION:Shrine of the Ages\, 20 S. Entrance Rd\, Grand Canyon Village\, AZ\, 86023\, United States
ATTACH;FMTTYPE=image/jpeg:https://lukefleming.com/wp-content/uploads/2018/04/Grand-Canyon.jpg
END:VEVENT
BEGIN:VEVENT
DTSTART;TZID=America/Phoenix:20190906T193000
DTEND;TZID=America/Phoenix:20190906T213000
DTSTAMP:20260425T230250
CREATED:20190810T013934Z
LAST-MODIFIED:20190810T013954Z
UID:808-1567798200-1567805400@lukefleming.com
SUMMARY:Recital with the Manhattan Chamber Players for the Grand Canyon Music Festival - Grand Canyon Village\, AZ
DESCRIPTION:For more information on this event\, please click here. \nFor more information on the Manhattan Chamber Players\, please click here. \nFor more information on the Grand Canyon Music Festival\, please click here. \n 
URL:https://lukefleming.com/calendar/gcmf-mcp-1/
LOCATION:Shrine of the Ages\, 20 S. Entrance Rd\, Grand Canyon Village\, AZ\, 86023\, United States
ATTACH;FMTTYPE=image/jpeg:https://lukefleming.com/wp-content/uploads/2018/04/Grand-Canyon.jpg
END:VEVENT
BEGIN:VEVENT
DTSTART;VALUE=DATE:20190819
DTEND;VALUE=DATE:20190824
DTSTAMP:20260425T230250
CREATED:20181203T182023Z
LAST-MODIFIED:20181203T182023Z
UID:742-1566172800-1566604799@lukefleming.com
SUMMARY:Artist at OBX Chamber Music Series - Outer Banks\, NC
DESCRIPTION:For more information about the OBX Chamber Music Series\, click here.
URL:https://lukefleming.com/calendar/artist-obx-chamber-music-series-outer-banks-nc/
LOCATION:AZ
ATTACH;FMTTYPE=image/jpeg:https://lukefleming.com/wp-content/uploads/2018/02/OBX.jpg
END:VEVENT
BEGIN:VEVENT
DTSTART;VALUE=DATE:20190810
DTEND;VALUE=DATE:20190819
DTSTAMP:20260425T230250
CREATED:20181203T181747Z
LAST-MODIFIED:20181203T181747Z
UID:741-1565395200-1566172799@lukefleming.com
SUMMARY:Viola Faculty and Artist at Festival del Lago - Ajijic\, Mexico
DESCRIPTION:For more about Festival del Lago\, please click here.
URL:https://lukefleming.com/calendar/viola-faculty-artist-festival-del-lago-ajijic-mexico/
LOCATION:Festival del Lago\, Ajijic\, Jalisco\, Mexico
ATTACH;FMTTYPE=image/png:https://lukefleming.com/wp-content/uploads/2018/02/Festival-del-Lago.png
END:VEVENT
BEGIN:VEVENT
DTSTART;TZID=America/New_York:20190807T190000
DTEND;TZID=America/New_York:20190807T210000
DTSTAMP:20260425T230250
CREATED:20190111T202619Z
LAST-MODIFIED:20190111T202711Z
UID:754-1565204400-1565211600@lukefleming.com
SUMMARY:Recital with the Manhattan Chamber Players and the Dover Quartet at Ottawa Chamberfest - Ottawa\, ON
DESCRIPTION:For more about Ottawa Chamberfest\, please click here. \nFor more about the Manhattan Chamber Players\, please click here. \nFor more information on this program\, please click here.
URL:https://lukefleming.com/calendar/recital-manhattan-chamber-players-dover-quartet-ottawa-chamberfest-ottawa/
LOCATION:Dominion-Chalmers United Church\, 355 Cooper St.\, Ottawa\, ON\, K2P 0G8\, Canada
ATTACH;FMTTYPE=image/jpeg:https://lukefleming.com/wp-content/uploads/2019/01/Ottawa-Chamberfest.jpg
END:VEVENT
BEGIN:VEVENT
DTSTART;TZID=America/New_York:20190806T190000
DTEND;TZID=America/New_York:20190806T210000
DTSTAMP:20260425T230250
CREATED:20190111T202220Z
LAST-MODIFIED:20190111T202502Z
UID:750-1565118000-1565125200@lukefleming.com
SUMMARY:Recital with the Manhattan Chamber Players at Ottawa Chamberfest - Ottawa\, ON
DESCRIPTION:For more about Ottawa Chamberfest\, please click here. \nFor more about the Manhattan Chamber Players\, please click here. \nFor more information on this program\, please click here. \n 
URL:https://lukefleming.com/calendar/recital-manhattan-chamber-players-ottawa-chamberfest-ottawa/
LOCATION:Dominion-Chalmers United Church\, 355 Cooper St.\, Ottawa\, ON\, K2P 0G8\, Canada
ATTACH;FMTTYPE=image/jpeg:https://lukefleming.com/wp-content/uploads/2019/01/Ottawa-Chamberfest.jpg
END:VEVENT
BEGIN:VEVENT
DTSTART;TZID=America/New_York:20190804T170000
DTEND;TZID=America/New_York:20190804T190000
DTSTAMP:20260425T230250
CREATED:20190424T153059Z
LAST-MODIFIED:20190424T153059Z
UID:779-1564938000-1564945200@lukefleming.com
SUMMARY:Recital with the Manhattan Chamber Players for Pacem in Terris - Warwick\, NY
DESCRIPTION:For more information on Pacem in Terris\, please click here. \nFor more information on the Manhattan Chamber Players and this concert\, please click here.
URL:https://lukefleming.com/calendar/recital-manhattan-chamber-players-pacem-terris-warwick-ny-3/
LOCATION:Pacem in Terris\, 96 Covered Bridge Road\, Warwick\, NY\, 10990\, United States
ATTACH;FMTTYPE=image/jpeg:https://lukefleming.com/wp-content/uploads/2019/04/6241760000_IMG_0845.jpg
END:VEVENT
BEGIN:VEVENT
DTSTART;TZID=America/New_York:20190803T200000
DTEND;TZID=America/New_York:20190803T220000
DTSTAMP:20260425T230250
CREATED:20181203T180937Z
LAST-MODIFIED:20181203T180937Z
UID:736-1564862400-1564869600@lukefleming.com
SUMMARY:Recital with the Manhattan Chamber Players at the Chappaquiddick Music Festival - Chappaquiddick\, MA
DESCRIPTION:For more information on the Manhattan Chamber Players\, please click here. \nFor more information on this event\, please click here.
URL:https://lukefleming.com/calendar/recital-manhattan-chamber-players-chappaquiddick-music-festival-chappaquiddick-ma/
LOCATION:Chappaquiddick Community Center\, 180 Chappaquiddick Rd.\, Edgartown\, MA\, 02539\, United States
ATTACH;FMTTYPE=image/jpeg:https://lukefleming.com/wp-content/uploads/2018/09/05-MCP-Logo.jpg
END:VEVENT
BEGIN:VEVENT
DTSTART;TZID=America/New_York:20190709T193000
DTEND;TZID=America/New_York:20190709T213000
DTSTAMP:20260425T230250
CREATED:20181203T180733Z
LAST-MODIFIED:20181203T180733Z
UID:734-1562700600-1562707800@lukefleming.com
SUMMARY:Recital with the Manhattan Chamber Players at Minnesota Beethoven Festival - Winona\, MN
DESCRIPTION:For more information on the Manhattan Chamber Players\, please click here. \nFor more information on the Minnesota Beethoven Festival\, please click here. \nFor more information on this event\, please click here.
URL:https://lukefleming.com/calendar/recital-manhattan-chamber-players-minnesota-beethoven-festival-winona-mn/
LOCATION:Page Theatre\, St. Mary’s University\, 700 Terrace Heights\, Winona\, MN\, 55987\, United States
ATTACH;FMTTYPE=image/jpeg:https://lukefleming.com/wp-content/uploads/2017/01/Minnesota-Beethoven-Festival.jpg
END:VEVENT
BEGIN:VEVENT
DTSTART;VALUE=DATE:20190623
DTEND;VALUE=DATE:20190630
DTSTAMP:20260425T230250
CREATED:20190611T212312Z
LAST-MODIFIED:20190611T212312Z
UID:786-1561248000-1561852799@lukefleming.com
SUMMARY:Festival Artist at Artosphere Festival - Fayetteville\, AR
DESCRIPTION:For more information on Artosphere Festival\, please click here.
URL:https://lukefleming.com/calendar/artist-artosphere-festival-fayetteville-ar/
LOCATION:Walton Arts Center\, 495 W. Dickson St.\, Fayetteville\, AR\, 72701\, United States
ATTACH;FMTTYPE=image/jpeg:https://lukefleming.com/wp-content/uploads/2019/06/Artosphere.jpg
END:VEVENT
BEGIN:VEVENT
DTSTART;VALUE=DATE:20190620
DTEND;VALUE=DATE:20190624
DTSTAMP:20260425T230250
CREATED:20181203T181513Z
LAST-MODIFIED:20181203T181513Z
UID:737-1560988800-1561334399@lukefleming.com
SUMMARY:Artist at the Serafin Summer Music Festival
DESCRIPTION:For more about the Serafin Summer Music Festival\, click here.
URL:https://lukefleming.com/calendar/artist-serafin-summer-music-festival/
LOCATION:University of Delaware\, Newark\, DE\, 19716\, United States
ATTACH;FMTTYPE=image/jpeg:https://lukefleming.com/wp-content/uploads/2018/12/Serafin-Summer-Music-2019-flyer.jpg
END:VEVENT
END:VCALENDAR