BEGIN:VCALENDAR
VERSION:2.0
PRODID:-//Luke Fleming - ECPv6.15.1.1//NONSGML v1.0//EN
CALSCALE:GREGORIAN
METHOD:PUBLISH
X-WR-CALNAME:Luke Fleming
X-ORIGINAL-URL:https://lukefleming.com
X-WR-CALDESC:Events for Luke Fleming
REFRESH-INTERVAL;VALUE=DURATION:PT1H
X-Robots-Tag:noindex
X-PUBLISHED-TTL:PT1H
BEGIN:VTIMEZONE
TZID:America/New_York
BEGIN:DAYLIGHT
TZOFFSETFROM:-0500
TZOFFSETTO:-0400
TZNAME:EDT
DTSTART:20190310T070000
END:DAYLIGHT
BEGIN:STANDARD
TZOFFSETFROM:-0400
TZOFFSETTO:-0500
TZNAME:EST
DTSTART:20191103T060000
END:STANDARD
BEGIN:DAYLIGHT
TZOFFSETFROM:-0500
TZOFFSETTO:-0400
TZNAME:EDT
DTSTART:20200308T070000
END:DAYLIGHT
BEGIN:STANDARD
TZOFFSETFROM:-0400
TZOFFSETTO:-0500
TZNAME:EST
DTSTART:20201101T060000
END:STANDARD
END:VTIMEZONE
BEGIN:VTIMEZONE
TZID:America/Chicago
BEGIN:DAYLIGHT
TZOFFSETFROM:-0600
TZOFFSETTO:-0500
TZNAME:CDT
DTSTART:20200308T080000
END:DAYLIGHT
BEGIN:STANDARD
TZOFFSETFROM:-0500
TZOFFSETTO:-0600
TZNAME:CST
DTSTART:20201101T070000
END:STANDARD
END:VTIMEZONE
BEGIN:VTIMEZONE
TZID:America/Vancouver
BEGIN:DAYLIGHT
TZOFFSETFROM:-0800
TZOFFSETTO:-0700
TZNAME:PDT
DTSTART:20200308T100000
END:DAYLIGHT
BEGIN:STANDARD
TZOFFSETFROM:-0700
TZOFFSETTO:-0800
TZNAME:PST
DTSTART:20201101T090000
END:STANDARD
END:VTIMEZONE
BEGIN:VEVENT
DTSTART;VALUE=DATE:20201002
DTEND;VALUE=DATE:20201012
DTSTAMP:20260425T121955
CREATED:20200312T233432Z
LAST-MODIFIED:20200928T233812Z
UID:864-1601596800-1602460799@lukefleming.com
SUMMARY:Artistic Director and Violist\, Crescent City Chamber Music Festival - New Orleans\, LA
DESCRIPTION:For more information about the Crescent City Chamber Music Festival\, please click here. \nFour live online concerts streamed via Facebook Live and YouTube Live.  October 2\, 4\, 9\, and 11. \nFor more information on these concerts and how to view\, click here!
URL:https://lukefleming.com/calendar/cccmf-2020/
LOCATION:Unnamed Venue\, New Orleans\, LA\, United States
ATTACH;FMTTYPE=image/png:https://lukefleming.com/wp-content/uploads/2020/03/CCCMFTheme20.png
END:VEVENT
BEGIN:VEVENT
DTSTART;VALUE=DATE:20200824
DTEND;VALUE=DATE:20200830
DTSTAMP:20260425T121955
CREATED:20200312T233727Z
LAST-MODIFIED:20200312T233727Z
UID:866-1598227200-1598745599@lukefleming.com
SUMMARY:Festival Artist\, OBX Chamber Music Series - Outer Banks\, NC
DESCRIPTION:For more information on OBX Chamber Music Series\, please click here.
URL:https://lukefleming.com/calendar/obx-2020/
LOCATION:Unnamed Venue\, Outer Banks\, NC\, United States
ATTACH;FMTTYPE=image/jpeg:https://lukefleming.com/wp-content/uploads/2018/02/OBX.jpg
END:VEVENT
BEGIN:VEVENT
DTSTART;TZID=America/New_York:20200823T193000
DTEND;TZID=America/New_York:20200823T213000
DTSTAMP:20260425T121955
CREATED:20200312T110243Z
LAST-MODIFIED:20200312T110243Z
UID:858-1598211000-1598218200@lukefleming.com
SUMMARY:Recital with the Manhattan Chamber Players for Gretna Music - Mount Gretna\, PA
DESCRIPTION:For more information about this event\, please click here. \nFor more information about the Manhattan Chamber Players\, please click here.
URL:https://lukefleming.com/calendar/mcp-gretna-music-aug23/
LOCATION:Mount Gretna Playhouse\, 200 Pennsylvania Ave.\, Mount Gretna\, PA\, 17064\, United States
ATTACH;FMTTYPE=image/jpeg:https://lukefleming.com/wp-content/uploads/2020/03/IMG_5117.jpg
END:VEVENT
BEGIN:VEVENT
DTSTART;VALUE=DATE:20200804
DTEND;VALUE=DATE:20200816
DTSTAMP:20260425T121955
CREATED:20191107T162234Z
LAST-MODIFIED:20191107T162234Z
UID:827-1596499200-1597535999@lukefleming.com
SUMMARY:Faculty/Artist at Festival del Lago - Ajijic\, Mexico
DESCRIPTION:For more information about Festival del Lago\, please click here.
URL:https://lukefleming.com/calendar/festival-del-lago/
LOCATION:Unnamed Venue\, Ajijic\, Mexico
ATTACH;FMTTYPE=image/png:https://lukefleming.com/wp-content/uploads/2018/02/Festival-del-Lago.png
END:VEVENT
BEGIN:VEVENT
DTSTART;TZID=America/New_York:20200803T170000
DTEND;TZID=America/New_York:20200803T190000
DTSTAMP:20260425T121955
CREATED:20191107T160314Z
LAST-MODIFIED:20191107T160314Z
UID:823-1596474000-1596481200@lukefleming.com
SUMMARY:Recital at the Highlands-Cashiers Chamber Music Festival - Cashiers\, NC
DESCRIPTION:For more information on the Highlands-Cashiers Chamber Music Festival\, please click here.
URL:https://lukefleming.com/calendar/hccmf-2/
LOCATION:Albert Carlton Community Library\, 249 Frank Allen Rd.\, Cashiers\, NC\, 28717\, United States
ATTACH;FMTTYPE=image/jpeg:https://lukefleming.com/wp-content/uploads/2016/03/HC.jpg
END:VEVENT
BEGIN:VEVENT
DTSTART;TZID=America/New_York:20200802T170000
DTEND;TZID=America/New_York:20200802T190000
DTSTAMP:20260425T121955
CREATED:20191107T160054Z
LAST-MODIFIED:20191107T160054Z
UID:821-1596387600-1596394800@lukefleming.com
SUMMARY:Recital at the Highlands-Cashiers Chamber Music Festival - Highlands\, NC
DESCRIPTION:For more information on the Highlands-Cashiers Chamber Music Festival\, please click here.
URL:https://lukefleming.com/calendar/hccmf-1/
LOCATION:Highlands Performing Arts Center\, 507 Chestnut St.\, Highlands\, NC\, 28741\, United States
ATTACH;FMTTYPE=image/jpeg:https://lukefleming.com/wp-content/uploads/2016/03/HC.jpg
END:VEVENT
BEGIN:VEVENT
DTSTART;TZID=America/New_York:20200728T193000
DTEND;TZID=America/New_York:20200728T213000
DTSTAMP:20260425T121955
CREATED:20191107T154857Z
LAST-MODIFIED:20191107T154857Z
UID:814-1595964600-1595971800@lukefleming.com
SUMMARY:Recital with the Manhattan Chamber Players at Summer Music from Greensboro - Greensboro\, VT
DESCRIPTION:For more information on this event\, please click here. \nFor more information on Summer Music from Greensboro\, please click here. \nFor more information on the Manhattan Chamber Players\, please click here.
URL:https://lukefleming.com/calendar/mcp-smfg-recital/
LOCATION:Greensboro United Church of Christ\, 165 E. Craftsbury Rd.\, Greensboro\, VT\, 05841\, United States
ATTACH;FMTTYPE=image/png:https://lukefleming.com/wp-content/uploads/2019/11/SMfG-Logo.png
END:VEVENT
BEGIN:VEVENT
DTSTART;TZID=America/New_York:20200712T150000
DTEND;TZID=America/New_York:20200712T170000
DTSTAMP:20260425T121955
CREATED:20200312T103150Z
LAST-MODIFIED:20200312T103150Z
UID:855-1594566000-1594573200@lukefleming.com
SUMMARY:Recital with the Manhattan Chamber Players for Princeton University Summer Chamber Concerts - Princeton\, NJ
DESCRIPTION:For more information on this event\, please click here. \nFor more information on the Manhattan Chamber Players\, please click here.
URL:https://lukefleming.com/calendar/mcp-princeton-july12/
LOCATION:Richardson Auditorium\, Alexander Hall\, Princeton University\, Princeton\, NJ\, United States
ATTACH;FMTTYPE=image/jpeg:https://lukefleming.com/wp-content/uploads/2020/03/IMG_5116.jpg
END:VEVENT
BEGIN:VEVENT
DTSTART;VALUE=DATE:20200614
DTEND;VALUE=DATE:20200622
DTSTAMP:20260425T121955
CREATED:20200312T093723Z
LAST-MODIFIED:20200312T093723Z
UID:847-1592092800-1592783999@lukefleming.com
SUMMARY:Festival Artist at Serafin Summer Music
DESCRIPTION:For more information about Serafin Summer Music\, please click here.
URL:https://lukefleming.com/calendar/festival-artist-serafin-summer-music/
LOCATION:Music School of Delaware\, 4101 Washington St\, Wilmington\, DE\, 19802\, United States
ATTACH;FMTTYPE=image/jpeg:https://lukefleming.com/wp-content/uploads/2020/03/serafin-summer-music-banner-2020.jpg
END:VEVENT
BEGIN:VEVENT
DTSTART;VALUE=DATE:20200601
DTEND;VALUE=DATE:20200606
DTSTAMP:20260425T121955
CREATED:20200312T095442Z
LAST-MODIFIED:20200312T095442Z
UID:853-1590969600-1591401599@lukefleming.com
SUMMARY:Faculty at The Woodlands Chamberfest - The Woodlands\, TX
DESCRIPTION:For more information on The Woodlands Chamberfest\, please click here.
URL:https://lukefleming.com/calendar/woodlands-chamberfest-faculty/
LOCATION:Cynthia Woods Mitchell Pavilion\, 2005 Lake Robbins Dr\, The Woodlands\, TX\, 77380\, United States
ATTACH;FMTTYPE=image/png:https://lukefleming.com/wp-content/uploads/2020/03/Woodlands.png
END:VEVENT
BEGIN:VEVENT
DTSTART;TZID=America/New_York:20200527T193000
DTEND;TZID=America/New_York:20200527T213000
DTSTAMP:20260425T121955
CREATED:20190625T222345Z
LAST-MODIFIED:20190626T012145Z
UID:798-1590607800-1590615000@lukefleming.com
SUMMARY:Recital with Peter Wiley and the Manhattan Chamber Players at Baruch Performing Arts Center\, NYC
DESCRIPTION:For more information on this event\, please click here. \nFor more information on the Manhattan Chamber Players\, please click here.
URL:https://lukefleming.com/calendar/hymn-music-peter-wiley/
LOCATION:Engelman Recital Hall\, Baruch Performing Arts Center\, 55 Lexington Ave.\, New York\, NY\, 10010\, United States
ATTACH;FMTTYPE=image/jpeg:https://lukefleming.com/wp-content/uploads/2018/09/05-MCP-Logo.jpg
END:VEVENT
BEGIN:VEVENT
DTSTART;TZID=America/New_York:20200527T120000
DTEND;TZID=America/New_York:20200527T130000
DTSTAMP:20260425T121955
CREATED:20190625T223544Z
LAST-MODIFIED:20190625T223544Z
UID:800-1590580800-1590584400@lukefleming.com
SUMMARY:Recital with the Manhattan Chamber Players for Downtown Music - White Plains\, NY
DESCRIPTION:For more information on this event\, please click here. \nFor more information on the Manhattan Chamber Players\, please click here.
URL:https://lukefleming.com/calendar/recital-manhattan-chamber-players-downtown-music-white-plains-ny/
LOCATION:Grace Episcopal Church\, 33 Church St.\, White Plains\, NY\, 10601\, United States
ATTACH;FMTTYPE=image/jpeg:https://lukefleming.com/wp-content/uploads/2018/09/05-MCP-Logo.jpg
END:VEVENT
BEGIN:VEVENT
DTSTART;TZID=America/New_York:20200402T190000
DTEND;TZID=America/New_York:20200402T203000
DTSTAMP:20260425T121955
CREATED:20200312T093111Z
LAST-MODIFIED:20200312T093758Z
UID:843-1585854000-1585859400@lukefleming.com
SUMMARY:Recital with the Serafin Ensemble at the Milton Theatre - Milton\, DE
DESCRIPTION:For more information about this event\, please click here.
URL:https://lukefleming.com/calendar/serafin-april2/
LOCATION:AZ
ATTACH;FMTTYPE=image/jpeg:https://lukefleming.com/wp-content/uploads/2020/03/Milton-Theatre-1.jpeg
END:VEVENT
BEGIN:VEVENT
DTSTART;TZID=America/New_York:20200326T200000
DTEND;TZID=America/New_York:20200326T213000
DTSTAMP:20260425T121955
CREATED:20200312T094942Z
LAST-MODIFIED:20200312T094942Z
UID:850-1585252800-1585258200@lukefleming.com
SUMMARY:Performance with the Manhattan Chamber Players at Roulette for String Theories Festival - Brooklyn\, NY
DESCRIPTION:For more information on this event\, please click here. \nFor more information on the Manhattan Chamber Players\, please click here.
URL:https://lukefleming.com/calendar/roulette-mcp-march26/
LOCATION:Roulette\, 509 Atlantic Ave.\, Brooklyn\, NY\, 11217\, United States
ATTACH;FMTTYPE=image/jpeg:https://lukefleming.com/wp-content/uploads/2020/03/String-Theories.jpg
END:VEVENT
BEGIN:VEVENT
DTSTART;TZID=America/New_York:20200323T200000
DTEND;TZID=America/New_York:20200323T220000
DTSTAMP:20260425T121955
CREATED:20200312T092612Z
LAST-MODIFIED:20200312T092612Z
UID:840-1584993600-1585000800@lukefleming.com
SUMMARY:Recital with the Serafin Ensemble at the University of Delaware - Newark\, DE
DESCRIPTION:For more information about this event\, please click here.
URL:https://lukefleming.com/calendar/serafin-mar23/
LOCATION:Gore Recital Hall\, Roselle Center for the Arts\, 130 Amstel Avenue\, Newark\, DE\, 19716\, United States
ATTACH;FMTTYPE=image/jpeg:https://lukefleming.com/wp-content/uploads/2020/03/University-of-Delaware-400x400.jpg
END:VEVENT
BEGIN:VEVENT
DTSTART;TZID=America/New_York:20200322T160000
DTEND;TZID=America/New_York:20200322T180000
DTSTAMP:20260425T121955
CREATED:20200312T092236Z
LAST-MODIFIED:20200312T092236Z
UID:836-1584892800-1584900000@lukefleming.com
SUMMARY:Recital with the Serafin Ensemble at the Music School of Delaware - Milford\, DE
DESCRIPTION:For more information about this event\, please click here.
URL:https://lukefleming.com/calendar/serafin-mar22/
LOCATION:Music School of Delaware\, Milton Branch\, 23 North Walnut St.\, Milford\, DE\, 19963\, United States
ATTACH;FMTTYPE=image/jpeg:https://lukefleming.com/wp-content/uploads/2020/03/Music_School_of_Delaware0_56c01ac2-5056-b3a8-497e84b24fbff031.jpg
END:VEVENT
BEGIN:VEVENT
DTSTART;TZID=America/New_York:20200319T193000
DTEND;TZID=America/New_York:20200319T213000
DTSTAMP:20260425T121955
CREATED:20190625T221300Z
LAST-MODIFIED:20190626T012114Z
UID:797-1584646200-1584653400@lukefleming.com
SUMMARY:Recital with Kim Kashkashian and the Manhattan Chamber Players at Holy Trinity Lutheran Church - NYC
DESCRIPTION:For more information on this event\, please click here. \nFor more information on the Manhattan Chamber Players\, please click here.
URL:https://lukefleming.com/calendar/hidden-gems-kim-kashkashian-manhattan-chamber-players-holy-trinity-lutheran-church-nyc/
LOCATION:Holy Trinity Lutheran Church\, 3 W. 65th St.\, New York\, NY\, 10023\, United States
ATTACH;FMTTYPE=image/jpeg:https://lukefleming.com/wp-content/uploads/2018/09/05-MCP-Logo.jpg
END:VEVENT
BEGIN:VEVENT
DTSTART;TZID=America/Vancouver:20200315T150000
DTEND;TZID=America/Vancouver:20200315T170000
DTSTAMP:20260425T121955
CREATED:20190314T182155Z
LAST-MODIFIED:20190314T182155Z
UID:772-1584284400-1584291600@lukefleming.com
SUMMARY:Recital with the Manhattan Chamber Players for the Vancouver Chamber Music Society - Coquitlam\, BC\, Canada
DESCRIPTION:For more information on the Manhattan Chamber Players\, please click here. \nFor more information on this concert\, please click here.
URL:https://lukefleming.com/calendar/recital-manhattan-chamber-players-vancouver-chamber-music-society-coquitlam-bc-canada/
LOCATION:Evergreen Cultural Centre\, 1205 Pinetree Way\, Coquitlam\, BC\, V3B 7Y3)\, Canada
ATTACH;FMTTYPE=image/png:https://lukefleming.com/wp-content/uploads/2019/03/VCMS.png
END:VEVENT
BEGIN:VEVENT
DTSTART;TZID=America/Vancouver:20200314T193000
DTEND;TZID=America/Vancouver:20200314T213000
DTSTAMP:20260425T121955
CREATED:20190314T181753Z
LAST-MODIFIED:20190314T181753Z
UID:769-1584214200-1584221400@lukefleming.com
SUMMARY:Recital with the Manhattan Chamber Players for the Vancouver Chamber Music Society - West Vancouver\, BC\, Canada
DESCRIPTION:For more information on the Manhattan Chamber Players\, please click here. \nFor more information on this concert\, please click here.
URL:https://lukefleming.com/calendar/vcms/
LOCATION:West Vancouver United Church\, 2062 Esquimalt Ave.\, West Vancouver\, BC\, V7V 1S4\, Canada
ATTACH;FMTTYPE=image/png:https://lukefleming.com/wp-content/uploads/2019/03/VCMS.png
END:VEVENT
BEGIN:VEVENT
DTSTART;TZID=America/Vancouver:20200313T193000
DTEND;TZID=America/Vancouver:20200313T213000
DTSTAMP:20260425T121956
CREATED:20190314T181038Z
LAST-MODIFIED:20190314T181101Z
UID:766-1584127800-1584135000@lukefleming.com
SUMMARY:Recital with the Manhattan Chamber Players for Valley Concert Society - Abbotsford\, BC\, Canada
DESCRIPTION:For more information on the Manhattan Chamber Players\, please click here. \nFor more information on this concert\, please click here.
URL:https://lukefleming.com/calendar/recital-valley-concert-society-abbotsford-bc-canada/
LOCATION:Matsqui Centennial Auditorium\, 32315 South Fraser Way\,\, Abbotsford\, BC\, V2T 1W7\, Canada
ATTACH;FMTTYPE=image/jpeg:https://lukefleming.com/wp-content/uploads/2019/03/valley-CS.jpg
END:VEVENT
BEGIN:VEVENT
DTSTART;TZID=America/New_York:20200303T193000
DTEND;TZID=America/New_York:20200303T213000
DTSTAMP:20260425T121956
CREATED:20180430T023115Z
LAST-MODIFIED:20180430T023115Z
UID:696-1583263800-1583271000@lukefleming.com
SUMMARY:Recital with the Manhattan Chamber Players for Sanibel Music Festival - Sanibel Island\, FL
DESCRIPTION:For more information on the Sanibel Music Festival\, click here. \nFor more information on the Manhattan Chamber Players\, click here.
URL:https://lukefleming.com/calendar/recital-manhattan-chamber-players-sanibel-music-festival-sanibel-island-fl/
LOCATION:Sanibel Congregational United Church of Christ\, 2050 Periwinkle Way\, Sanibel Island\, FL\, 33957 \, United States
ATTACH;FMTTYPE=image/png:https://lukefleming.com/wp-content/uploads/2018/04/Sanibel-Music-Festival.png
END:VEVENT
BEGIN:VEVENT
DTSTART;TZID=America/New_York:20200302T193000
DTEND;TZID=America/New_York:20200302T213000
DTSTAMP:20260425T121956
CREATED:20190611T213619Z
LAST-MODIFIED:20190611T213619Z
UID:789-1583177400-1583184600@lukefleming.com
SUMMARY:Recital for Timucua Arts Foundation - Orlando\, FL
DESCRIPTION:For more information on this event\, please click here. \nFor more information on the Manhattan Chamber Players\, please click here.
URL:https://lukefleming.com/calendar/recital-timucua-arts-foundation-orlando-fl/
LOCATION:Timucua\, 2000 S. Summerlin Ave.\, Orlando\, FL\, 32806\, United States
ATTACH;FMTTYPE=image/jpeg:https://lukefleming.com/wp-content/uploads/2019/06/Timucua.jpeg
END:VEVENT
BEGIN:VEVENT
DTSTART;VALUE=DATE:20200201
DTEND;VALUE=DATE:20200217
DTSTAMP:20260425T121956
CREATED:20191107T162021Z
LAST-MODIFIED:20191107T162021Z
UID:825-1580515200-1581897599@lukefleming.com
SUMMARY:Artist and Ensemble-in-Residence with the Manhattan Chamber Players at the Festival de Febrero - Ajijic\, Mexico
DESCRIPTION:For more information about the Festival de Febrero\, please click here. \nFor more information about the Manhattan Chamber Players\, please click here.
URL:https://lukefleming.com/calendar/artist-ensemble-residence-manhattan-chamber-players-festival-de-febrero-ajijic-mexico/
LOCATION:Unnamed Venue\, Ajijic\, Mexico
ATTACH;FMTTYPE=image/jpeg:https://lukefleming.com/wp-content/uploads/2016/11/FF.jpg
END:VEVENT
BEGIN:VEVENT
DTSTART;TZID=America/New_York:20200130T193000
DTEND;TZID=America/New_York:20200130T213000
DTSTAMP:20260425T121956
CREATED:20190624T155544Z
LAST-MODIFIED:20190626T014453Z
UID:793-1580412600-1580419800@lukefleming.com
SUMMARY:Recital with Wolfram Koessel and the Manhattan Chamber Players at Baruch Performing Arts Center\, NYC
DESCRIPTION:For more information on this event\, please click here. \nFor more information on the Manhattan Chamber Players\, please click here.
URL:https://lukefleming.com/calendar/recital-wolfgang-schlosser-manhattan-chamber-players-baruch-performing-arts-center-nyc/
LOCATION:Engelman Recital Hall\, Baruch Performing Arts Center\, 55 Lexington Ave.\, New York\, NY\, 10010\, United States
ATTACH;FMTTYPE=image/jpeg:https://lukefleming.com/wp-content/uploads/2016/09/05-MCP-Logo.jpg
END:VEVENT
BEGIN:VEVENT
DTSTART;TZID=America/New_York:20200126T140000
DTEND;TZID=America/New_York:20200126T150000
DTSTAMP:20260425T121956
CREATED:20190510T001946Z
LAST-MODIFIED:20190510T001946Z
UID:782-1580047200-1580050800@lukefleming.com
SUMMARY:Recital with the Manhattan Chamber Players at Ossining Public Library - Ossining\, NY
DESCRIPTION:For more information about this concert\, click here. \nFor more information about the Manhattan Chamber Players\, click here.
URL:https://lukefleming.com/calendar/recital-manhattan-chamber-players-ossining-public-library-ossining-ny/
LOCATION:AZ
ATTACH;FMTTYPE=image/jpeg:https://lukefleming.com/wp-content/uploads/2017/03/OPL.jpg
END:VEVENT
BEGIN:VEVENT
DTSTART;TZID=America/New_York:20191119T193000
DTEND;TZID=America/New_York:20191119T213000
DTSTAMP:20260425T121956
CREATED:20190625T215255Z
LAST-MODIFIED:20190626T015207Z
UID:794-1574191800-1574199000@lukefleming.com
SUMMARY:Recital with the Manhattan Chamber Players for Project: Music Heals Us on Tour - NYC
DESCRIPTION:For more information on this event\, please click here. \nFor more information on the Manhattan Chamber Players\, please click here. \nFor more information on Project: Music Heals Us\, please click here.
URL:https://lukefleming.com/calendar/red-death-pmhu-mcp/
LOCATION:Holy Trinity Lutheran Church\, 3 W. 65th St.\, New York\, NY\, 10023\, United States
ATTACH;FMTTYPE=image/jpeg:https://lukefleming.com/wp-content/uploads/2019/06/PMHU.jpg
END:VEVENT
BEGIN:VEVENT
DTSTART;VALUE=DATE:20191116
DTEND;VALUE=DATE:20191125
DTSTAMP:20260425T121956
CREATED:20190625T224227Z
LAST-MODIFIED:20190625T224227Z
UID:802-1573862400-1574639999@lukefleming.com
SUMMARY:U.S. Tour with Project: Music Heals Us
DESCRIPTION:For more information on Project: Music Heals Us\, please click here.
URL:https://lukefleming.com/calendar/tour-project-music-heals-us/
LOCATION:AZ
ATTACH;FMTTYPE=image/jpeg:https://lukefleming.com/wp-content/uploads/2019/06/PMHU.jpg
END:VEVENT
BEGIN:VEVENT
DTSTART;TZID=America/New_York:20191110T170000
DTEND;TZID=America/New_York:20191110T190000
DTSTAMP:20260425T121956
CREATED:20191107T155532Z
LAST-MODIFIED:20191107T155532Z
UID:819-1573405200-1573412400@lukefleming.com
SUMMARY:Concert with the New York Classical Players - New York\, NY
DESCRIPTION:For more information on the New York Classical Players\, please click here.
URL:https://lukefleming.com/calendar/concert-new-york-classical-players-new-york-ny/
LOCATION:Broadway Presbyterian Church\, 601 W. 114th St.\, New York\, NY\, 10025\, United States
ATTACH;FMTTYPE=image/png:https://lukefleming.com/wp-content/uploads/2016/09/NYCP.png
END:VEVENT
BEGIN:VEVENT
DTSTART;TZID=America/New_York:20191109T200000
DTEND;TZID=America/New_York:20191109T220000
DTSTAMP:20260425T121956
CREATED:20191107T155336Z
LAST-MODIFIED:20191107T155336Z
UID:817-1573329600-1573336800@lukefleming.com
SUMMARY:Concert with New York Classical Players - Ridgewood\, NJ
DESCRIPTION:For more information on the New York Classical Players\, please click here.
URL:https://lukefleming.com/calendar/concert-new-york-classical-players-2/
LOCATION:West Side Presbyterian Church\, 6 South Monroe St.\, Ridgewood\, NJ\, 07450\, United States
ATTACH;FMTTYPE=image/png:https://lukefleming.com/wp-content/uploads/2016/09/NYCP.png
END:VEVENT
BEGIN:VEVENT
DTSTART;TZID=America/New_York:20191107T193000
DTEND;TZID=America/New_York:20191107T213000
DTSTAMP:20260425T121956
CREATED:20191104T195851Z
LAST-MODIFIED:20191104T195851Z
UID:811-1573155000-1573162200@lukefleming.com
SUMMARY:Recital with the Escher Quartet at Jorgensen Center for the Performing Arts - Storrs\, CT
DESCRIPTION:For more information on this event\, please click here. \nFor more information on the Escher Quartet\, please click here.
URL:https://lukefleming.com/calendar/recital-escher-string-quartet-jorgensen-center-performing-arts-storrs-ct/
LOCATION:Jorgensen Center for the Performing Arts\, 2132 Hillside Rd.\, Storrs\, CT\, 06269\, United States
ATTACH;FMTTYPE=image/jpeg:https://lukefleming.com/wp-content/uploads/2019/11/Jorgensen-full-LOGO-2.jpg
END:VEVENT
END:VCALENDAR