BEGIN:VCALENDAR
VERSION:2.0
PRODID:-//Luke Fleming - ECPv6.15.1.1//NONSGML v1.0//EN
CALSCALE:GREGORIAN
METHOD:PUBLISH
X-WR-CALNAME:Luke Fleming
X-ORIGINAL-URL:https://lukefleming.com
X-WR-CALDESC:Events for Luke Fleming
REFRESH-INTERVAL;VALUE=DURATION:PT1H
X-Robots-Tag:noindex
X-PUBLISHED-TTL:PT1H
BEGIN:VTIMEZONE
TZID:America/New_York
BEGIN:DAYLIGHT
TZOFFSETFROM:-0500
TZOFFSETTO:-0400
TZNAME:EDT
DTSTART:20180311T070000
END:DAYLIGHT
BEGIN:STANDARD
TZOFFSETFROM:-0400
TZOFFSETTO:-0500
TZNAME:EST
DTSTART:20181104T060000
END:STANDARD
BEGIN:DAYLIGHT
TZOFFSETFROM:-0500
TZOFFSETTO:-0400
TZNAME:EDT
DTSTART:20190310T070000
END:DAYLIGHT
BEGIN:STANDARD
TZOFFSETFROM:-0400
TZOFFSETTO:-0500
TZNAME:EST
DTSTART:20191103T060000
END:STANDARD
END:VTIMEZONE
BEGIN:VTIMEZONE
TZID:America/Chicago
BEGIN:DAYLIGHT
TZOFFSETFROM:-0600
TZOFFSETTO:-0500
TZNAME:CDT
DTSTART:20180311T080000
END:DAYLIGHT
BEGIN:STANDARD
TZOFFSETFROM:-0500
TZOFFSETTO:-0600
TZNAME:CST
DTSTART:20181104T070000
END:STANDARD
BEGIN:DAYLIGHT
TZOFFSETFROM:-0600
TZOFFSETTO:-0500
TZNAME:CDT
DTSTART:20190310T080000
END:DAYLIGHT
BEGIN:STANDARD
TZOFFSETFROM:-0500
TZOFFSETTO:-0600
TZNAME:CST
DTSTART:20191103T070000
END:STANDARD
END:VTIMEZONE
BEGIN:VTIMEZONE
TZID:America/Los_Angeles
BEGIN:DAYLIGHT
TZOFFSETFROM:-0800
TZOFFSETTO:-0700
TZNAME:PDT
DTSTART:20180311T100000
END:DAYLIGHT
BEGIN:STANDARD
TZOFFSETFROM:-0700
TZOFFSETTO:-0800
TZNAME:PST
DTSTART:20181104T090000
END:STANDARD
END:VTIMEZONE
BEGIN:VTIMEZONE
TZID:America/Phoenix
BEGIN:STANDARD
TZOFFSETFROM:-0700
TZOFFSETTO:-0700
TZNAME:MST
DTSTART:20180101T000000
END:STANDARD
END:VTIMEZONE
BEGIN:VEVENT
DTSTART;VALUE=DATE:20190620
DTEND;VALUE=DATE:20190624
DTSTAMP:20260425T190700
CREATED:20181203T181513Z
LAST-MODIFIED:20181203T181513Z
UID:737-1560988800-1561334399@lukefleming.com
SUMMARY:Artist at the Serafin Summer Music Festival
DESCRIPTION:For more about the Serafin Summer Music Festival\, click here.
URL:https://lukefleming.com/calendar/artist-serafin-summer-music-festival/
LOCATION:University of Delaware\, Newark\, DE\, 19716\, United States
ATTACH;FMTTYPE=image/jpeg:https://lukefleming.com/wp-content/uploads/2018/12/Serafin-Summer-Music-2019-flyer.jpg
END:VEVENT
BEGIN:VEVENT
DTSTART;VALUE=DATE:20190602
DTEND;VALUE=DATE:20190608
DTSTAMP:20260425T190700
CREATED:20190111T200611Z
LAST-MODIFIED:20190111T200630Z
UID:748-1559433600-1559951999@lukefleming.com
SUMMARY:Faculty at the Woodlands Chamberfest - Houston\, TX
DESCRIPTION:For more about the Woodlands Chamberfest\, please click here.
URL:https://lukefleming.com/calendar/faculty-woodlands-chamberfest/
LOCATION:Cynthia Woods Mitchell Pavilion\, 2005 Lake Robbins Dr\, The Woodlands\, TX\, 77380\, United States
ATTACH;FMTTYPE=image/png:https://lukefleming.com/wp-content/uploads/2019/01/Woodlands.png
END:VEVENT
BEGIN:VEVENT
DTSTART;TZID=America/New_York:20190523T193000
DTEND;TZID=America/New_York:20190523T213000
DTSTAMP:20260425T190700
CREATED:20181203T180320Z
LAST-MODIFIED:20181203T180320Z
UID:733-1558639800-1558647000@lukefleming.com
SUMMARY:Recital with the Manhattan Chamber Players and Carmit Zori at Baruch Performing Arts Center\, NYC
DESCRIPTION:For more information on the Manhattan Chamber Players\, please click here. \nFor more information on this event\, please click here.
URL:https://lukefleming.com/calendar/recital-manhattan-chamber-players-carmit-zori-baruch-performing-arts-center-nyc/
LOCATION:Engelman Recital Hall\, Baruch Performing Arts Center\, 55 Lexington Ave.\, New York\, NY\, 10010\, United States
ATTACH;FMTTYPE=image/jpeg:https://lukefleming.com/wp-content/uploads/2018/09/05-MCP-Logo.jpg
END:VEVENT
BEGIN:VEVENT
DTSTART;TZID=America/New_York:20190517T180000
DTEND;TZID=America/New_York:20190517T210000
DTSTAMP:20260425T190700
CREATED:20190314T183421Z
LAST-MODIFIED:20190314T183421Z
UID:776-1558116000-1558126800@lukefleming.com
SUMMARY:Pre-Concert Lecture and Recital with Daniel Phillips\, Carmit Zori\, and Peter Wiley for Project: Music Heals Us - Guilford\, CT
DESCRIPTION:For more information on this concert and Project: Music Heals us\, please click here.
URL:https://lukefleming.com/calendar/recital-project-music-heals-us-guilford-ct-2/
LOCATION:St. George Catholic Church\, 33 Whitfield St.\, Guilford\, CT\, 06437\, United States
ATTACH;FMTTYPE=image/jpeg:https://lukefleming.com/wp-content/uploads/2019/03/PMHU.jpg
END:VEVENT
BEGIN:VEVENT
DTSTART;TZID=America/New_York:20190424T190000
DTEND;TZID=America/New_York:20190424T210000
DTSTAMP:20260425T190700
CREATED:20180430T022550Z
LAST-MODIFIED:20180430T022550Z
UID:693-1556132400-1556139600@lukefleming.com
SUMMARY:Recital with the Manhattan Chamber Players for Bulgarian Concert Evenings - NYC
DESCRIPTION:For more information on Bulgarian Concert Evenings\, please click here. \nFor more information on the Manhattan Chamber Players\, please click here. \nProgram: \nFrançois Devienne (1759 – 1803)\nDuo in C minor\, Op. 5 no. 3 (1780) \nMaurice Ravel (1875 – 1937)\nSonata for Violin and Cello (1922) \nIntermission \nGabriel Fauré (1845 – 1924)\nPiano Quartet No. 1 in C minor\, Op. 15 (1879) \nManhattan Chamber Players \nEmily Daggett Smith\, Violin\nLuke Fleming\, Viola\nAndrea Casarrubios\, Cello \nwith Anna Stoytcheva\, Guest Pianist
URL:https://lukefleming.com/calendar/recital-manhattan-chamber-players-bulgarian-concert-evenings-nyc/
LOCATION:Bulgarian Consulate General\, 121 East 62nd St.\, New York\, NY\, 10065\, United States
ATTACH;FMTTYPE=image/jpeg:https://lukefleming.com/wp-content/uploads/2016/02/MCP-Group-Headshot-1.jpg
END:VEVENT
BEGIN:VEVENT
DTSTART;TZID=America/New_York:20190327T193000
DTEND;TZID=America/New_York:20190327T213000
DTSTAMP:20260425T190700
CREATED:20190215T202903Z
LAST-MODIFIED:20190215T202903Z
UID:755-1553715000-1553722200@lukefleming.com
SUMMARY:Recital with the Manhattan Chamber Players\, Seunghee Lee\, and JP Jofre at The Cell - NYC
DESCRIPTION:For more information on the Manhattan Chamber Players\, please click here. \nFor more information on this event\, please click here.
URL:https://lukefleming.com/calendar/recital-manhattan-chamber-players-seunghee-lee-jp-jofre-cell-nyc/
LOCATION:The Cell\, 338 W. 23rd St.\, New York\, NY\, 10011\, United States
ATTACH;FMTTYPE=image/png:https://lukefleming.com/wp-content/uploads/2019/02/The-Cell.png
END:VEVENT
BEGIN:VEVENT
DTSTART;TZID=America/New_York:20190324T170000
DTEND;TZID=America/New_York:20190324T183000
DTSTAMP:20260425T190700
CREATED:20190305T185108Z
LAST-MODIFIED:20190305T192628Z
UID:759-1553446800-1553452200@lukefleming.com
SUMMARY:Recital with the Manhattan Chamber Players for Hudson View Gardens Performing Arts Group - NYC
DESCRIPTION:For more information on this event\, please click here. \nFor more information on the Manhattan Chamber Players\, please click here.
URL:https://lukefleming.com/calendar/recital-manhattan-chamber-players-hudson-view-gardens-performing-arts-group-nyc/
LOCATION:Hudson View Gardens Performing Arts Group\, 128 Pinehurst Ave.\, New York\, NY\, 10033\, United States
ATTACH;FMTTYPE=image/jpeg:https://lukefleming.com/wp-content/uploads/2019/03/ManhChamberPlayersFlyer.jpg
END:VEVENT
BEGIN:VEVENT
DTSTART;TZID=America/New_York:20190324T140000
DTEND;TZID=America/New_York:20190324T150000
DTSTAMP:20260425T190700
CREATED:20181203T180057Z
LAST-MODIFIED:20181203T180057Z
UID:731-1553436000-1553439600@lukefleming.com
SUMMARY:Recital with the Manhattan Chamber Players at Bethpage Public Library - Bethpage\, NY
DESCRIPTION:For more information on the Manhattan Chamber Players\, please click here. \nFor more information on this event\, please click here.
URL:https://lukefleming.com/calendar/recital-manhattan-chamber-players-bethpage-public-library-bethpage-ny/
LOCATION:Bethpage Public Library\, 47 Powell Ave.\, Bethpage\, NY\, 11714\, United States
ATTACH;FMTTYPE=image/jpeg:https://lukefleming.com/wp-content/uploads/2018/09/05-MCP-Logo.jpg
END:VEVENT
BEGIN:VEVENT
DTSTART;TZID=America/New_York:20190323T160000
DTEND;TZID=America/New_York:20190323T170000
DTSTAMP:20260425T190700
CREATED:20181203T175830Z
LAST-MODIFIED:20181203T175830Z
UID:728-1553356800-1553360400@lukefleming.com
SUMMARY:Recital with the Manhattan Chamber Players at the Music Conservatory of Westchester - White Plains\, NY
DESCRIPTION:For more information on the Manhattan Chamber Players\, please click here. \nFor more information on this event\, please click here.
URL:https://lukefleming.com/calendar/recital-manhattan-chamber-players-university-westchester-white-plains-ny/
LOCATION:Music Conservatory of Westchester\, 216 Central Ave.\, White Plains\, NY\, 10606\, United States
ATTACH;FMTTYPE=image/jpeg:https://lukefleming.com/wp-content/uploads/2018/12/Westchester.jpg
END:VEVENT
BEGIN:VEVENT
DTSTART;TZID=America/New_York:20190321T193000
DTEND;TZID=America/New_York:20190321T213000
DTSTAMP:20260425T190700
CREATED:20181203T175448Z
LAST-MODIFIED:20190301T234616Z
UID:727-1553196600-1553203800@lukefleming.com
SUMMARY:Recital with the Manhattan Chamber Players at Holy Trinity Lutheran Church\, NYC
DESCRIPTION:For more information on the Manhattan Chamber Players\, please click here. \nFor more information on this event\, please click here.
URL:https://lukefleming.com/calendar/recital-manhattan-chamber-players-david-speltz-baruch-performing-arts-center-nyc/
LOCATION:Holy Trinity Lutheran Church\, 3 W. 65th St.\, New York\, NY\, 10023\, United States
ATTACH;FMTTYPE=image/jpeg:https://lukefleming.com/wp-content/uploads/2018/09/05-MCP-Logo.jpg
END:VEVENT
BEGIN:VEVENT
DTSTART;VALUE=DATE:20190208
DTEND;VALUE=DATE:20190225
DTSTAMP:20260425T190700
CREATED:20181203T174811Z
LAST-MODIFIED:20181203T174811Z
UID:726-1549584000-1551052799@lukefleming.com
SUMMARY:Artist-in-Residence with the Manhattan Chamber Players at Festival de Febrero - Ajijic\, Mexico
DESCRIPTION:For more information on the Manhattan Chamber Players\, please click here. \nFor more information on the Festival de Febrero\, please click here.
URL:https://lukefleming.com/calendar/artist-residence-manhattan-chamber-players-festival-de-febrero-ajijic-mexico/
LOCATION:Northern Lights Music Festival\, Ajijic\, Jalisco\, Mexico
ATTACH;FMTTYPE=image/jpeg:https://lukefleming.com/wp-content/uploads/2016/11/FF.jpg
END:VEVENT
BEGIN:VEVENT
DTSTART;TZID=America/New_York:20190122T193000
DTEND;TZID=America/New_York:20190122T213000
DTSTAMP:20260425T190700
CREATED:20181203T174513Z
LAST-MODIFIED:20181203T174513Z
UID:724-1548185400-1548192600@lukefleming.com
SUMMARY:Recital with the Manhattan Chamber Players and Steven Tenenbom at Baruch Performing Arts Center\, NYC
DESCRIPTION:For more information on the Manhattan Chamber Players\, please click here. \nFor more information on this event\, please click here.
URL:https://lukefleming.com/calendar/recital-manhattan-chamber-players-steven-tenenbom-baruch-performing-arts-center-nyc/
LOCATION:Engelman Recital Hall\, Baruch Performing Arts Center\, 55 Lexington Ave.\, New York\, NY\, 10010\, United States
ATTACH;FMTTYPE=image/jpeg:https://lukefleming.com/wp-content/uploads/2018/09/05-MCP-Logo.jpg
END:VEVENT
BEGIN:VEVENT
DTSTART;TZID=America/New_York:20181211T193000
DTEND;TZID=America/New_York:20181211T213000
DTSTAMP:20260425T190700
CREATED:20180911T194848Z
LAST-MODIFIED:20180911T194848Z
UID:722-1544556600-1544563800@lukefleming.com
SUMMARY:Recital with the Manhattan Chamber Players and Peter Wiley at Baruch Performing Arts Center - New York\, NY
DESCRIPTION:For more information on the Manhattan Chamber Players\, please click here. \nFor more information on this event\, please click here.
URL:https://lukefleming.com/calendar/recital-manhattan-chamber-players-peter-wiley-baruch-performing-arts-center-new-york-ny/
LOCATION:Engelman Recital Hall\, Baruch Performing Arts Center\, 55 Lexington Ave.\, New York\, NY\, 10010\, United States
ATTACH;FMTTYPE=image/jpeg:https://lukefleming.com/wp-content/uploads/2018/09/05-MCP-Logo.jpg
END:VEVENT
BEGIN:VEVENT
DTSTART;VALUE=DATE:20181022
DTEND;VALUE=DATE:20181101
DTSTAMP:20260425T190700
CREATED:20180216T131659Z
LAST-MODIFIED:20180216T131659Z
UID:666-1540166400-1541030399@lukefleming.com
SUMMARY:Crescent City Chamber Music Festival - New Orleans\, LA
DESCRIPTION:For more information on the Crescent City Chamber Music Festival\, please click here.
URL:https://lukefleming.com/calendar/crescent-city-chamber-music-festival-new-orleans-la/
LOCATION:Crescent City Chamber Music Festival\, New Orleans\, LA\, United States
ATTACH;FMTTYPE=image/png:https://lukefleming.com/wp-content/uploads/2018/02/CCCMF-logo-blue-without-dates-SMALL.png
END:VEVENT
BEGIN:VEVENT
DTSTART;TZID=America/New_York:20181009T193000
DTEND;TZID=America/New_York:20181009T213000
DTSTAMP:20260425T190700
CREATED:20180911T193311Z
LAST-MODIFIED:20180911T193324Z
UID:711-1539113400-1539120600@lukefleming.com
SUMMARY:Recital with the Manhattan Chamber Players and Daniel Phillips at Baruch Performing Arts Center - New York\, NY
DESCRIPTION:For more information on the Manhattan Chamber Players\, please click here. \nFor more information on this event\, please click here.
URL:https://lukefleming.com/calendar/first-glimpses-greatness-manhattan-chamber-players-daniel-phillips-baruch-performing-arts-center-new-york-ny/
LOCATION:Engelman Recital Hall\, Baruch Performing Arts Center\, 55 Lexington Ave.\, New York\, NY\, 10010\, United States
ATTACH;FMTTYPE=image/jpeg:https://lukefleming.com/wp-content/uploads/2018/09/05-MCP-Logo.jpg
END:VEVENT
BEGIN:VEVENT
DTSTART;TZID=America/Los_Angeles:20181002T193000
DTEND;TZID=America/Los_Angeles:20181002T210000
DTSTAMP:20260425T190700
CREATED:20180911T194136Z
LAST-MODIFIED:20180911T194136Z
UID:716-1538508600-1538514000@lukefleming.com
SUMMARY:Recital with the Manhattan Chamber Players for Müzewest Concerts - Vancouver\, CA
DESCRIPTION:For more information on Müzewest Concerts\, please click here. \nFor more information on the Manhattan Chamber Players\, please click here. \nFor more information on this event\, please click here.
URL:https://lukefleming.com/calendar/recital-manhattan-chamber-players-muzewest-concerts-vancouver-ca/
LOCATION:VSO School of Music\, Room 412\, 843 Seymour St.\, Vancouver\, BC\, V6B 3L4\, Canada
ATTACH;FMTTYPE=image/png:https://lukefleming.com/wp-content/uploads/2018/09/Muzewest-Logo-300x240.png
END:VEVENT
BEGIN:VEVENT
DTSTART;TZID=America/Los_Angeles:20180930T150000
DTEND;TZID=America/Los_Angeles:20180930T170000
DTSTAMP:20260425T190700
CREATED:20180216T130713Z
LAST-MODIFIED:20180216T130713Z
UID:662-1538319600-1538326800@lukefleming.com
SUMMARY:Recital with the Manhattan Chamber Players for Gold Coast Chamber Players - San Francisco\, CA
DESCRIPTION:For more information on the Gold Coast Chamber Players\, please click here. \nFor more information on the Manhattan Chamber Players\, please click here.
URL:https://lukefleming.com/calendar/recital-manhattan-chamber-players-gold-coast-chamber-players-san-francisco-ca-2/
LOCATION:NY
ATTACH;FMTTYPE=image/jpeg:https://lukefleming.com/wp-content/uploads/2018/02/Gold-Coast.jpeg
END:VEVENT
BEGIN:VEVENT
DTSTART;TZID=America/Los_Angeles:20180930T120000
DTEND;TZID=America/Los_Angeles:20180930T130000
DTSTAMP:20260425T190700
CREATED:20180911T193015Z
LAST-MODIFIED:20180911T193015Z
UID:708-1538308800-1538312400@lukefleming.com
SUMMARY:Performance for SF Music Day with the Manhattan Chamber Players - San Francisco\, CA
DESCRIPTION:For more information on the Manhattan Chamber Players\, please click here. \nFor more information on this event\, please click here.
URL:https://lukefleming.com/calendar/performance-sf-music-day-manhattan-chamber-players-san-francisco-ca/
LOCATION:Taube Atrium Theater\, 401 Van Ness Ave.\, San Francisco\, CA\, 94102\, United States
ATTACH;FMTTYPE=image/jpeg:https://lukefleming.com/wp-content/uploads/2018/09/SF-Music-Day.jpg
END:VEVENT
BEGIN:VEVENT
DTSTART;TZID=America/Los_Angeles:20180929T193000
DTEND;TZID=America/Los_Angeles:20180929T213000
DTSTAMP:20260425T190700
CREATED:20180216T130609Z
LAST-MODIFIED:20180216T130609Z
UID:660-1538249400-1538256600@lukefleming.com
SUMMARY:Recital with the Manhattan Chamber Players for Gold Coast Chamber Players - San Francisco\, CA
DESCRIPTION:For more information on the Gold Coast Chamber Players\, please click here. \nFor more information on the Manhattan Chamber Players\, please click here.
URL:https://lukefleming.com/calendar/recital-manhattan-chamber-players-gold-coast-chamber-players-san-francisco-ca/
LOCATION:NY
ATTACH;FMTTYPE=image/jpeg:https://lukefleming.com/wp-content/uploads/2018/02/Gold-Coast.jpeg
END:VEVENT
BEGIN:VEVENT
DTSTART;TZID=America/Los_Angeles:20180928T180000
DTEND;TZID=America/Los_Angeles:20180928T190000
DTSTAMP:20260425T190700
CREATED:20180911T193714Z
LAST-MODIFIED:20180911T193714Z
UID:713-1538157600-1538161200@lukefleming.com
SUMMARY:Recital with the Manhattan Chamber Players at the University of California\, San Francisco
DESCRIPTION:For more information on the Manhattan Chamber Players\, please click here. \nFor more information on this event\, please click here.
URL:https://lukefleming.com/calendar/recital-manhattan-chamber-players-university-california-san-francisco/
LOCATION:Millberry Union\, 500 Parnassus Ave.\, San Francisco\, CA\, 94143\, United States
ATTACH;FMTTYPE=image/jpeg:https://lukefleming.com/wp-content/uploads/2018/09/USCF.jpg
END:VEVENT
BEGIN:VEVENT
DTSTART;TZID=America/New_York:20180921T193000
DTEND;TZID=America/New_York:20180921T213000
DTSTAMP:20260425T190700
CREATED:20180911T194558Z
LAST-MODIFIED:20180911T194558Z
UID:719-1537558200-1537565400@lukefleming.com
SUMMARY:Concert with the Cayuga Chamber Orchestra - Ithaca\, NY
DESCRIPTION:For more information on the Cayuga Chamber Orchestra\, please click here.
URL:https://lukefleming.com/calendar/concert-cayuga-chamber-orchestra-ithaca-ny/
LOCATION:Ford Hall\, Ithaca College\, 953 Danby Rd.\, Ithaca\, NY\, 14850\, United States
ATTACH;FMTTYPE=image/jpeg:https://lukefleming.com/wp-content/uploads/2018/09/Cayuga.jpeg
END:VEVENT
BEGIN:VEVENT
DTSTART;TZID=America/Phoenix:20180908T193000
DTEND;TZID=America/Phoenix:20180908T213000
DTSTAMP:20260425T190700
CREATED:20180430T021301Z
LAST-MODIFIED:20180430T023356Z
UID:690-1536435000-1536442200@lukefleming.com
SUMMARY:Recital with the Manhattan Chamber Players at the Grand Canyon Music Festival - Grand Canyon\, AZ
DESCRIPTION:For more information on the Grand Canyon Music Festival\, click here. \nFor more information on the Manhattan Chamber Players\, click here.
URL:https://lukefleming.com/calendar/recital-manhattan-chamber-players-grand-canyon-music-festival-grand-canyon-az/
LOCATION:Shrine of the Ages\, 20 S. Entrance Rd\, Grand Canyon Village\, AZ\, 86023\, United States
ATTACH;FMTTYPE=image/jpeg:https://lukefleming.com/wp-content/uploads/2018/04/Grand-Canyon.jpg
END:VEVENT
BEGIN:VEVENT
DTSTART;TZID=America/Phoenix:20180907T193000
DTEND;TZID=America/Phoenix:20180907T213000
DTSTAMP:20260425T190700
CREATED:20180430T021022Z
LAST-MODIFIED:20180430T021022Z
UID:687-1536348600-1536355800@lukefleming.com
SUMMARY:Recital with the Manhattan Chamber Players at the Grand Canyon Music Festival - Grand Canyon\, AZ
DESCRIPTION:For more information on the Grand Canyon Music Festival\, click here. \nFor more information on the Manhattan Chamber Players\, click here. \n 
URL:https://lukefleming.com/calendar/recital-grand-canyon-music-festival/
LOCATION:Shrine of the Ages\, 20 S. Entrance Rd\, Grand Canyon Village\, AZ\, 86023\, United States
ATTACH;FMTTYPE=image/jpeg:https://lukefleming.com/wp-content/uploads/2018/04/Grand-Canyon.jpg
END:VEVENT
BEGIN:VEVENT
DTSTART;VALUE=DATE:20180819
DTEND;VALUE=DATE:20180825
DTSTAMP:20260425T190700
CREATED:20180216T141035Z
LAST-MODIFIED:20180216T141035Z
UID:679-1534636800-1535155199@lukefleming.com
SUMMARY:Artist at Surf and Sounds: OBX Chamber Series - Outer Banks\, NC
DESCRIPTION:For more information on Surf and Sounds: OBX Chamber Series\, please click here.
URL:https://lukefleming.com/calendar/artist-surf-sounds-obx-chamber-series-outer-banks-nc/
LOCATION:OBX Chamber Music Series\, Outer Banks\, NC\, United States
ATTACH;FMTTYPE=image/jpeg:https://lukefleming.com/wp-content/uploads/2018/02/OBX.jpg
END:VEVENT
BEGIN:VEVENT
DTSTART;VALUE=DATE:20180811
DTEND;VALUE=DATE:20180820
DTSTAMP:20260425T190700
CREATED:20180216T132436Z
LAST-MODIFIED:20180216T132436Z
UID:668-1533945600-1534723199@lukefleming.com
SUMMARY:Faculty at Festival del Lago - Ajijic\, Mexico
DESCRIPTION:For more information on Festival del Lago\, please click here.
URL:https://lukefleming.com/calendar/faculty-festival-del-lago/
LOCATION:Festival del Lago\, Ajijic\, Jalisco\, Mexico
ATTACH;FMTTYPE=image/png:https://lukefleming.com/wp-content/uploads/2018/02/Festival-del-Lago.png
END:VEVENT
BEGIN:VEVENT
DTSTART;VALUE=DATE:20180731
DTEND;VALUE=DATE:20180806
DTSTAMP:20260425T190700
CREATED:20180430T020523Z
LAST-MODIFIED:20180430T020523Z
UID:683-1532995200-1533513599@lukefleming.com
SUMMARY:Artist at Ottawa Chamberfest - Canada
DESCRIPTION:For more information on Ottawa Chamberfest\, please click here.
URL:https://lukefleming.com/calendar/artist-ottawa-chamberfest-canada/
LOCATION:Ottawa Chamberfest\, 4 Florence Ste 201\, Ottawa\, Ontario\, K2P 0W7\, Canada
ATTACH;FMTTYPE=image/jpeg:https://lukefleming.com/wp-content/uploads/2018/04/Ottawa.jpg
END:VEVENT
BEGIN:VEVENT
DTSTART;VALUE=DATE:20180704
DTEND;VALUE=DATE:20180723
DTSTAMP:20260425T190700
CREATED:20180216T131018Z
LAST-MODIFIED:20180216T131018Z
UID:663-1530662400-1532303999@lukefleming.com
SUMMARY:Artist at Newport Music Festival - Newport\, RI
DESCRIPTION:For more information on the Newport Music Festival\, please click here.
URL:https://lukefleming.com/calendar/artist-newport-music-festival-newport-ri/
LOCATION:Newport Music Festival\, Newport\, RI\, United States
ATTACH;FMTTYPE=image/jpeg:https://lukefleming.com/wp-content/uploads/2018/02/Newport.jpeg
END:VEVENT
BEGIN:VEVENT
DTSTART;TZID=America/New_York:20180624T170000
DTEND;TZID=America/New_York:20180624T190000
DTSTAMP:20260425T190700
CREATED:20180525T123140Z
LAST-MODIFIED:20180525T123140Z
UID:700-1529859600-1529866800@lukefleming.com
SUMMARY:Recital at Pacem in Terris with the Manhattan Chamber Players - Warwick\, NY
DESCRIPTION:For more information on this event and the Manhattan Chamber Players\, please click here. \nTo learn more about Pacem in Terris\, click here. \n 
URL:https://lukefleming.com/calendar/recital-pacem-terris-manhattan-chamber-players-warwick-ny/
LOCATION:Pacem in Terris\, 96 Covered Bridge Road\, Warwick\, NY\, 10990\, United States
ATTACH;FMTTYPE=image/jpeg:https://lukefleming.com/wp-content/uploads/2018/05/6241760000_IMG_0845.jpg
END:VEVENT
BEGIN:VEVENT
DTSTART;VALUE=DATE:20180603
DTEND;VALUE=DATE:20180608
DTSTAMP:20260425T190700
CREATED:20180216T132812Z
LAST-MODIFIED:20180216T132812Z
UID:671-1527984000-1528415999@lukefleming.com
SUMMARY:Faculty at the Woodlands Chamberfest - The Woodlands\, Texas
DESCRIPTION:For more information on The Woodlands Chamberfest\, please click here.
URL:https://lukefleming.com/calendar/faculty-woodlands-chamberfest-woodlands-texas/
LOCATION:The Woodlands Chamberfest\, The Woodlands\, TX\, United States
ATTACH;FMTTYPE=image/jpeg:https://lukefleming.com/wp-content/uploads/2018/02/Woodlands.jpeg
END:VEVENT
BEGIN:VEVENT
DTSTART;TZID=America/New_York:20180524T190000
DTEND;TZID=America/New_York:20180524T213000
DTSTAMP:20260425T190700
CREATED:20171025T173356Z
LAST-MODIFIED:20171025T173356Z
UID:633-1527188400-1527197400@lukefleming.com
SUMMARY:"Cello Power" - Recital with Peter Wiley and the Manhattan Chamber Players at Holy Trinity Lutheran Church\, NYC
DESCRIPTION:For more information about this event\, please click here. \nFor more information about the Manhattan Chamber Players\, please click here.
URL:https://lukefleming.com/calendar/cello-power-recital-peter-wiley-manhattan-chamber-players-holy-trinity-lutheran-church-nyc/
LOCATION:Holy Trinity Lutheran Church\, 3 W. 65th St.\, New York\, NY\, 10023\, United States
ATTACH;FMTTYPE=image/jpeg:https://lukefleming.com/wp-content/uploads/2017/10/Peter-Wiley.jpeg
END:VEVENT
END:VCALENDAR