BEGIN:VCALENDAR
VERSION:2.0
PRODID:-//Luke Fleming - ECPv6.15.1.1//NONSGML v1.0//EN
CALSCALE:GREGORIAN
METHOD:PUBLISH
X-WR-CALNAME:Luke Fleming
X-ORIGINAL-URL:https://lukefleming.com
X-WR-CALDESC:Events for Luke Fleming
REFRESH-INTERVAL;VALUE=DURATION:PT1H
X-Robots-Tag:noindex
X-PUBLISHED-TTL:PT1H
BEGIN:VTIMEZONE
TZID:America/New_York
BEGIN:DAYLIGHT
TZOFFSETFROM:-0500
TZOFFSETTO:-0400
TZNAME:EDT
DTSTART:20240310T070000
END:DAYLIGHT
BEGIN:STANDARD
TZOFFSETFROM:-0400
TZOFFSETTO:-0500
TZNAME:EST
DTSTART:20241103T060000
END:STANDARD
BEGIN:DAYLIGHT
TZOFFSETFROM:-0500
TZOFFSETTO:-0400
TZNAME:EDT
DTSTART:20250309T070000
END:DAYLIGHT
BEGIN:STANDARD
TZOFFSETFROM:-0400
TZOFFSETTO:-0500
TZNAME:EST
DTSTART:20251102T060000
END:STANDARD
END:VTIMEZONE
BEGIN:VTIMEZONE
TZID:America/Denver
BEGIN:DAYLIGHT
TZOFFSETFROM:-0700
TZOFFSETTO:-0600
TZNAME:MDT
DTSTART:20250309T090000
END:DAYLIGHT
BEGIN:STANDARD
TZOFFSETFROM:-0600
TZOFFSETTO:-0700
TZNAME:MST
DTSTART:20251102T080000
END:STANDARD
END:VTIMEZONE
BEGIN:VTIMEZONE
TZID:America/Chicago
BEGIN:DAYLIGHT
TZOFFSETFROM:-0600
TZOFFSETTO:-0500
TZNAME:CDT
DTSTART:20240310T080000
END:DAYLIGHT
BEGIN:STANDARD
TZOFFSETFROM:-0500
TZOFFSETTO:-0600
TZNAME:CST
DTSTART:20241103T070000
END:STANDARD
BEGIN:DAYLIGHT
TZOFFSETFROM:-0600
TZOFFSETTO:-0500
TZNAME:CDT
DTSTART:20250309T080000
END:DAYLIGHT
BEGIN:STANDARD
TZOFFSETFROM:-0500
TZOFFSETTO:-0600
TZNAME:CST
DTSTART:20251102T070000
END:STANDARD
END:VTIMEZONE
BEGIN:VTIMEZONE
TZID:America/Los_Angeles
BEGIN:DAYLIGHT
TZOFFSETFROM:-0800
TZOFFSETTO:-0700
TZNAME:PDT
DTSTART:20250309T100000
END:DAYLIGHT
BEGIN:STANDARD
TZOFFSETFROM:-0700
TZOFFSETTO:-0800
TZNAME:PST
DTSTART:20251102T090000
END:STANDARD
END:VTIMEZONE
BEGIN:VEVENT
DTSTART;TZID=America/New_York:20250805T193000
DTEND;TZID=America/New_York:20250805T213000
DTSTAMP:20260424T225511
CREATED:20250721T003121Z
LAST-MODIFIED:20250721T003323Z
UID:1334-1754422200-1754429400@lukefleming.com
SUMMARY:Recital with the Manhattan Chamber Players for Summer Music from Greensboro - Greensboro\, VT
DESCRIPTION:For more information about Summer Music from Greensboro\, and to purchase tickets for this event\, please click here. \nFor more information about the Manhattan Chamber Players\, please click here. \nProgram: \nW.A. Mozart (1756 – 1797)\nFlute Quartet No. 4 in A major\, K. 298 (1787) \nLudwig van Beethoven (1770 – 1827)\nSerenade for Flute\, Violin\, and Viola in D major\, Op. 25 (1801) \nIntermission \nFrançois Devienne (1759 – 1803)\nDuo for Flute and Viola in C minor\, Op. 5 no. 3 (1786) \nW.A. Mozart (1756 – 1791)\nFlute Quartet No. 1 in D major\, K. 285 (1778) \nManhattan Chamber Players \nGrace Park\, Violin\nLuke Fleming\, Viola\nAbigail Monroe\, Cello\nMelissa Baker\, Flute
URL:https://lukefleming.com/calendar/mcp-greensboro-vt-2025/
LOCATION:Greensboro United Church of Christ\, 165 E. Craftsbury Rd.\, Greensboro\, VT\, 05841\, United States
ATTACH;FMTTYPE=image/jpeg:https://lukefleming.com/wp-content/uploads/2017/01/MCP-Group-Headshot-1.jpg
END:VEVENT
BEGIN:VEVENT
DTSTART;VALUE=DATE:20250728
DTEND;VALUE=DATE:20250803
DTSTAMP:20260424T225511
CREATED:20250720T224655Z
LAST-MODIFIED:20250721T001758Z
UID:1332-1753660800-1754179199@lukefleming.com
SUMMARY:Viola and Chamber Music Faculty at Festival del Lago - Ajijic\, Mexico
DESCRIPTION:For more information about the Festival del Lago\, please click here.
URL:https://lukefleming.com/calendar/festival-del-lago-25/
LOCATION:Festival del Lago\, Ajijic\, Jalisco\, Mexico
ATTACH;FMTTYPE=image/png:https://lukefleming.com/wp-content/uploads/2018/02/Festival-del-Lago.png
END:VEVENT
BEGIN:VEVENT
DTSTART;TZID=America/New_York:20250725T183000
DTEND;TZID=America/New_York:20250725T203000
DTSTAMP:20260424T225511
CREATED:20250417T200322Z
LAST-MODIFIED:20250518T231242Z
UID:1305-1753468200-1753475400@lukefleming.com
SUMMARY:Recital with the Manhattan Chamber Players for Quogue Chamber Music - Quogue\, NY
DESCRIPTION:For more information on this concert and to purchase tickets\, please click here. \nFor more information about the Manhattan Chamber Players\, please click here. \nProgram: \nAntonín Dvořák (1841 – 1904)\nString Quintet in Eb major\, Op. 97 (1893) \nIntermission \nJohannes Brahms (1833 – 1897)\nString Quintet in G major\, Op. 111 (1891) \nManhattan Chamber Players \nGrace Park\, Violin\nBrendan Speltz\, Violin\nLuke Fleming\, Viola\nRubén Rengel\, Violin\nBrook Speltz\, Cello
URL:https://lukefleming.com/calendar/mcp-quogue-7-25-2025/
LOCATION:Quogue Library\, 90 Quogue St\, Quogue\, NY\, 11959\, United States
ATTACH;FMTTYPE=image/jpeg:https://lukefleming.com/wp-content/uploads/2020/03/QuogueChamberMusicLogo.jpg
END:VEVENT
BEGIN:VEVENT
DTSTART;VALUE=DATE:20250720
DTEND;VALUE=DATE:20250725
DTSTAMP:20260424T225511
CREATED:20250704T181220Z
LAST-MODIFIED:20250704T181220Z
UID:1321-1752969600-1753401599@lukefleming.com
SUMMARY:Viola and Chamber Music Faculty at The Woodlands Chamberfest - The Woodlands\, TX
DESCRIPTION:For more information about The Woodlands Chamberfest\, please click here.
URL:https://lukefleming.com/calendar/woodlands-chamberfest-2025/
LOCATION:Cynthia Woods Mitchell Pavilion\, 2005 Lake Robbins Dr\, The Woodlands\, TX\, 77380\, United States
ATTACH;FMTTYPE=image/png:https://lukefleming.com/wp-content/uploads/2020/03/Woodlands.png
END:VEVENT
BEGIN:VEVENT
DTSTART;TZID=America/Denver:20250719T190000
DTEND;TZID=America/Denver:20250719T210000
DTSTAMP:20260424T225511
CREATED:20250417T191813Z
LAST-MODIFIED:20250417T191813Z
UID:1301-1752951600-1752958800@lukefleming.com
SUMMARY:Recital with the Manhattan Chamber Players for Strings Music Festival - Steamboat Springs\, CO
DESCRIPTION:For more information on this event and to purchase tickets\, please click here. \nFor more information on the Manhattan Chamber Players\, please click here. \nProgram: \nAntonín Dvořák (1841 – 1904)\nPiano Quintet in A major\, Op. 81 (1887) \nIntermission \nJohannes Brahms (1833 – 1897)\nPiano Quintet in F minor\, Op. 34 (1864) \nManhattan Chamber Players \nAdam Golka\, Piano\nGrace Park\, Violin\nBrendan Speltz\, Violin\nLuke Fleming\, Viola\nBrook Speltz\, Cello
URL:https://lukefleming.com/calendar/mcp-steamboat-7-19-2025/
LOCATION:The Strings Pavilion\, 950 Strings Rd\, Steamboat Springs\, CO\, 80487\, United States
ATTACH;FMTTYPE=image/png:https://lukefleming.com/wp-content/uploads/2025/04/Steamboat-Springs-Logo.png
END:VEVENT
BEGIN:VEVENT
DTSTART;TZID=America/New_York:20250714T193000
DTEND;TZID=America/New_York:20250714T213000
DTSTAMP:20260424T225511
CREATED:20250416T203413Z
LAST-MODIFIED:20250416T203413Z
UID:1295-1752521400-1752528600@lukefleming.com
SUMMARY:Recital with the Manhattan Chamber Players for Princeton University Summer Chamber Concerts - Princeton\, NJ
DESCRIPTION:For more information about this event and to purchase tickets\, please click here. \nFor more information on the Manhattan Chamber Players\, please click here. \nProgram: \nW.A. Mozart (1756 – 1791)\nTrio in Eb major\, K. 498 “Kegelstatt” (1786) \nRobert Schumann (1810 – 1856)\nMärchenerzählungen for Clarinet\, Viola\, and Piano\, Op. 132 (1853) \nGeorges Enescu (1881 – 1955)\nConcertpiece for Viola and Piano (1906) \nIntermission \nFrancis Poulenc (1899 – 1963)\nSonata for Clarinet and Piano\, FP 184 (1962) \nMax Bruch (1838 – 1920)\nSelections from Eight Pieces for Clarinet\, Viola\, and Piano\, Op. 83 (1908) \nManhattan Chamber Players \nDavid Fung\, Piano\nYasmina Spiegelberg\, Clarinet\nLuke Fleming\, Viola
URL:https://lukefleming.com/calendar/mcp-puscc-7-14-2025/
LOCATION:Richardson Auditorium\, Alexander Hall\, Princeton University\, Princeton\, NJ\, United States
ATTACH;FMTTYPE=image/jpeg:https://lukefleming.com/wp-content/uploads/2022/04/princeton-summer.jpeg
END:VEVENT
BEGIN:VEVENT
DTSTART;TZID=America/New_York:20250706T160000
DTEND;TZID=America/New_York:20250706T180000
DTSTAMP:20260424T225511
CREATED:20250406T151504Z
LAST-MODIFIED:20250416T205134Z
UID:1291-1751817600-1751824800@lukefleming.com
SUMMARY:Recital with Manhattan Chamber Players for Maverick Concerts - Woodstock\, NY
DESCRIPTION:For more information on this event and to purchase tickets\, please click here. \nFor more information about the Manhattan Chamber Players\, please click here. \nProgram: \nW.A. Mozart (1756 – 1791)\nPiano Quartet in E-flat Major\, K.493 (1786) \nRussell Platt (b. 1965)\nClarinet Concerto (2023) – World Premiere of the version for clarinet and chamber ensemble \nIntermission \nValerie Coleman-Page (b. 1970)\nSonatine for Clarinet and Piano (2005) \nW.A. Mozart (1756 – 1791)\nClarinet Quintet\, K.581 (1789) \nManhattan Chamber Players \nDavid Fung\, Piano\nRubén Rengel\, Violin\nKeiko Tokunaga\, Violin\nLuke Fleming\, Viola\nAbigail Monroe\, Cello \nwith \nMariam Adam\, Clarinet\nAndrew Trombley\, Double Bass\nKatherine Fortunato\, Percussion\nOliver Xu\, Percussion
URL:https://lukefleming.com/calendar/mcp-maverick-7-6-2025/
LOCATION:Maverick Concert Hall\, 120 Maverick Road\, Woodstock\, NY\, 12498\, United States
ATTACH;FMTTYPE=image/jpeg:https://lukefleming.com/wp-content/uploads/2023/03/Maverick-Concerts.jpeg
END:VEVENT
BEGIN:VEVENT
DTSTART;TZID=America/Chicago:20250606T203000
DTEND;TZID=America/Chicago:20250606T220000
DTSTAMP:20260424T225511
CREATED:20250406T145735Z
LAST-MODIFIED:20250603T015637Z
UID:1289-1749241800-1749247200@lukefleming.com
SUMMARY:Recital with the Manhattan Chamber Players for OKM Music - Bartlesville\, OK
DESCRIPTION:For more information on this event and to purchase tickets\, please click here. \nFor more information about the Manhattan Chamber Players\, please click here. \nProgram: \nEdvard Grieg (1843 – 1907)\nHolberg Suite\, Op. 40 (1884) \nW.A. Mozart (1756 – 1791)\nPiano Concerto No. 12 in A major\, K. 414 (1782) \nIntermission \nEdvard Grieg (1843 – 1907)\nPiano Concerto in A minor\, Op. 16 (1868) \nManhattan Chamber Players \nLuke Fleming\, Artistic Director\nDavid Fung\, Piano Soloist \nViolin I\nHannah Yim\, Concertmaster\nChris Wilshere\nJeremy Hao \nViolin II\nKurt Münstedt\, Principal\nBenjamin Thacher\nKate Walter \nViola\nLuke Fleming\, Principal\nPierre Lapointe\nAmelia Clingman \nCello\nBrook Speltz\, Principal\nAbigail Monroe \nDouble Bass\nPaul Macres
URL:https://lukefleming.com/calendar/mcp-okm-2025/
LOCATION:Woolaroc Museum and Wildlife Preserve\, 1925 Woolaroc Ranch Rd\, Bartlesville\, OK\, 74002\, United States
ATTACH;FMTTYPE=image/jpeg:https://lukefleming.com/wp-content/uploads/2025/04/OKM-2025-Logo.jpeg
END:VEVENT
BEGIN:VEVENT
DTSTART;TZID=America/Los_Angeles:20250427T140000
DTEND;TZID=America/Los_Angeles:20250427T160000
DTSTAMP:20260424T225511
CREATED:20250107T170235Z
LAST-MODIFIED:20250416T205254Z
UID:1255-1745762400-1745769600@lukefleming.com
SUMMARY:Recital with the Manhattan Chamber Players for Laguna Woods Community Concerts - Laguna Woods\, CA
DESCRIPTION:For more information on this event\, please click here. \nFor more information on the Manhattan Chamber Players\, please click here. \nProgram: \nJoaquín Turina (1882 – 1949)\nScène Andalouse\, Op. 7 (1912) \nRobert Schumann (1810 – 1856)\nPiano Quintet in Eb major\, Op. 44 (1842) \nIntermission \nFranz Schubert (1797 – 1828)\nString Quintet in C major\, D. 956 (1828) \nManhattan Chamber Players \nRobin Scott\, Violin\nKatie Hyun\, Violin\nLuke Fleming\, Viola\nAhrim Kim\, Cello\nRodolfo Leone\, Piano \nwith \nConnie Kupka\, Cello\nDavid Speltz\, Cello
URL:https://lukefleming.com/calendar/laguna-woods-mcp-4-27-25/
LOCATION:Laguna Woods Village Performing Arts Center\, 23822 Avenida Sevilla\, Laguna Woods\, CA\, 92637\, United States
ATTACH;FMTTYPE=image/jpeg:https://lukefleming.com/wp-content/uploads/2025/01/Laguna-Woods-Poster.jpg
END:VEVENT
BEGIN:VEVENT
DTSTART;TZID=America/New_York:20250406T150000
DTEND;TZID=America/New_York:20250406T170000
DTSTAMP:20260424T225511
CREATED:20241210T160758Z
LAST-MODIFIED:20241210T160758Z
UID:1250-1743951600-1743958800@lukefleming.com
SUMMARY:Recital for Essex Winter Series - Deep River\, CT
DESCRIPTION:For more information on this event and to purchase tickets\, please click here.
URL:https://lukefleming.com/calendar/essex-winter-series-4-6-25/
LOCATION:Valley Regional High School\, 256 Kelsey Hill Road\, Deep River\, CT\, 06417\, United States
ATTACH;FMTTYPE=image/png:https://lukefleming.com/wp-content/uploads/2024/12/Essex-Collage-2025.png
END:VEVENT
BEGIN:VEVENT
DTSTART;TZID=America/New_York:20250224T193000
DTEND;TZID=America/New_York:20250224T213000
DTSTAMP:20260424T225511
CREATED:20241210T160009Z
LAST-MODIFIED:20241210T160009Z
UID:1248-1740425400-1740432600@lukefleming.com
SUMMARY:Recital with the Manhattan Chamber Players at Baruch Performing Arts Center - NYC
DESCRIPTION:For more information on this event and to purchase tickets\, please click here. \nFor more information about the Manhattan Chamber Players\, please click here.
URL:https://lukefleming.com/calendar/mcp-bpac-2-24-25/
LOCATION:Engelman Recital Hall\, Baruch Performing Arts Center\, 55 Lexington Ave.\, New York\, NY\, 10010\, United States
ATTACH;FMTTYPE=image/jpeg:https://lukefleming.com/wp-content/uploads/2023/06/MCP-Baruch-Pic-scaled.jpeg
END:VEVENT
BEGIN:VEVENT
DTSTART;VALUE=DATE:20250209
DTEND;VALUE=DATE:20250223
DTSTAMP:20260424T225511
CREATED:20240119T052225Z
LAST-MODIFIED:20241210T150429Z
UID:1188-1739059200-1740268799@lukefleming.com
SUMMARY:Festival Artist\, Festival de Febrero - Ajijic\, Mexico
DESCRIPTION:For more information about Festival de Febrero\, please click here.
URL:https://lukefleming.com/calendar/festival-de-febrero-2025/
LOCATION:Northern Lights Music Festival\, Ajijic\, Jalisco\, Mexico
ATTACH;FMTTYPE=image/jpeg:https://lukefleming.com/wp-content/uploads/2024/01/Festival-de-Febrero-Logo.jpg
END:VEVENT
BEGIN:VEVENT
DTSTART;TZID=America/New_York:20250126T150000
DTEND;TZID=America/New_York:20250126T163000
DTSTAMP:20260424T225511
CREATED:20241106T163946Z
LAST-MODIFIED:20241106T163946Z
UID:1237-1737903600-1737909000@lukefleming.com
SUMMARY:Recital with the Manhattan Chamber Players for the Museum of Jewish Heritage - New York\, NY
DESCRIPTION:For more information about this event\, please click here. \nFor more information on the Manhattan Chamber Players\, please click here.
URL:https://lukefleming.com/calendar/mcp-museum-jewish-heritage-1-26-25/
LOCATION:Museum of Jewish Heritage\, 36 Battery Place\, New York\, NY\, 10280\, United States
ATTACH;FMTTYPE=image/jpeg:https://lukefleming.com/wp-content/uploads/2024/11/Museum-Jewish-Heritage-Pic.jpeg
END:VEVENT
BEGIN:VEVENT
DTSTART;TZID=America/New_York:20241211T193000
DTEND;TZID=America/New_York:20241211T210000
DTSTAMP:20260424T225511
CREATED:20241106T164522Z
LAST-MODIFIED:20241106T164522Z
UID:1241-1733945400-1733950800@lukefleming.com
SUMMARY:Recital for Classical Music Institute - San Antonio\, TX
DESCRIPTION:For more information on this event\, please click here.
URL:https://lukefleming.com/calendar/recital-for-classical-music-institute-san-antonio-tx/
LOCATION:Carlos Alvarez Studio Theater\, 100 Auditorium Circle\, San Antonio\, TX\, 78205\, United States
ATTACH;FMTTYPE=image/jpeg:https://lukefleming.com/wp-content/uploads/2024/11/CMI-Logo.jpeg
END:VEVENT
BEGIN:VEVENT
DTSTART;VALUE=DATE:20241010
DTEND;VALUE=DATE:20241021
DTSTAMP:20260424T225511
CREATED:20240428T221903Z
LAST-MODIFIED:20240428T221903Z
UID:1225-1728518400-1729468799@lukefleming.com
SUMMARY:Artistic Director and Violist at the Crescent City Chamber Music Festival - New Orleans\, LA
DESCRIPTION:For more information about the Crescent City Chamber Music Festival\, please click here.
URL:https://lukefleming.com/calendar/cccmf-2024/
ATTACH;FMTTYPE=image/png:https://lukefleming.com/wp-content/uploads/2018/02/CCCMF-logo-blue-without-dates-SMALL.png
END:VEVENT
BEGIN:VEVENT
DTSTART;VALUE=DATE:20240906
DTEND;VALUE=DATE:20240908
DTSTAMP:20260424T225511
CREATED:20240428T215329Z
LAST-MODIFIED:20240428T221021Z
UID:1221-1725580800-1725753599@lukefleming.com
SUMMARY:Two Recitals with the Manhattan Chamber Players at Grand Canyon Music Festival - Grand Canyon Village\, AZ
DESCRIPTION:For more information about the Grand Canyon Music Festival\, please click here. \nFor more information about the Manhattan Chamber Players\, please click here.
URL:https://lukefleming.com/calendar/grand-canyon-mcp-2024/
LOCATION:Shrine of the Ages\, 20 S. Entrance Rd\, Grand Canyon Village\, AZ\, 86023\, United States
ATTACH;FMTTYPE=image/jpeg:https://lukefleming.com/wp-content/uploads/2018/04/Grand-Canyon.jpg
END:VEVENT
BEGIN:VEVENT
DTSTART;VALUE=DATE:20240830
DTEND;VALUE=DATE:20240902
DTSTAMP:20260424T225511
CREATED:20240421T174734Z
LAST-MODIFIED:20240421T174734Z
UID:1216-1724976000-1725235199@lukefleming.com
SUMMARY:Co-Artistic Director and Violist of Lily Rock Chamber Music Festival - Idyllwild\, CA
DESCRIPTION:For more information about the Lily Rock Chamber Music Festival\, please click here.
URL:https://lukefleming.com/calendar/lily-rock-2024/
LOCATION:Lily Rock Chamber Music Festival\, Idyllwild-Pine Cove\, CA\, 92549\, United States
ATTACH;FMTTYPE=image/png:https://lukefleming.com/wp-content/uploads/2023/08/Lily-Rock-2023-Save-Date-Small.png
END:VEVENT
BEGIN:VEVENT
DTSTART;VALUE=DATE:20240819
DTEND;VALUE=DATE:20240825
DTSTAMP:20260424T225511
CREATED:20240421T174404Z
LAST-MODIFIED:20240421T174404Z
UID:1213-1724025600-1724543999@lukefleming.com
SUMMARY:Festival Artist at Surf and Sounds: OBX Chamber Music Series - Outer Banks\, NC
DESCRIPTION:For more information about Surf and Sounds: OBX Chamber Music Series\, please click here.
URL:https://lukefleming.com/calendar/obx-2024/
LOCATION:OBX Chamber Music Series\, Outer Banks\, NC\, United States
ATTACH;FMTTYPE=image/jpeg:https://lukefleming.com/wp-content/uploads/2016/02/OBX.jpg
END:VEVENT
BEGIN:VEVENT
DTSTART;VALUE=DATE:20240728
DTEND;VALUE=DATE:20240812
DTSTAMP:20260424T225511
CREATED:20240421T173854Z
LAST-MODIFIED:20240421T173854Z
UID:1211-1722124800-1723420799@lukefleming.com
SUMMARY:Viola and Chamber Music Faculty at Festival del Lago - Ajijic\, Mexico
DESCRIPTION:For more information about Festival del Lago\, please click here.
URL:https://lukefleming.com/calendar/festival-del-lago-2024/
LOCATION:Festival del Lago\, Ajijic\, Jalisco\, Mexico
ATTACH;FMTTYPE=image/png:https://lukefleming.com/wp-content/uploads/2018/02/Festival-del-Lago.png
END:VEVENT
BEGIN:VEVENT
DTSTART;VALUE=DATE:20240721
DTEND;VALUE=DATE:20240727
DTSTAMP:20260424T225511
CREATED:20240421T015113Z
LAST-MODIFIED:20250704T181001Z
UID:1209-1721520000-1722038399@lukefleming.com
SUMMARY:Viola and Chamber Music Faculty at the Woodlands Chamberfest
DESCRIPTION:For more information about The Woodlands Chamberfest\, please click here.
URL:https://lukefleming.com/calendar/woodlands-2024/
LOCATION:Cynthia Woods Mitchell Pavilion\, 2005 Lake Robbins Dr\, The Woodlands\, TX\, 77380\, United States
ATTACH;FMTTYPE=image/png:https://lukefleming.com/wp-content/uploads/2020/03/Woodlands.png
END:VEVENT
BEGIN:VEVENT
DTSTART;TZID=America/New_York:20240630T160000
DTEND;TZID=America/New_York:20240630T180000
DTSTAMP:20260424T225511
CREATED:20240119T054537Z
LAST-MODIFIED:20240119T054537Z
UID:1194-1719763200-1719770400@lukefleming.com
SUMMARY:Recital with the Manhattan Chamber Players for Maverick Concerts - Woodstock\, NY
DESCRIPTION:For more information about this event\, please click here. \nFor more information about the Manhattan Chamber Players\, please click here.
URL:https://lukefleming.com/calendar/mcp-maverick-6-30-24/
LOCATION:Maverick Concert Hall\, 120 Maverick Road\, Woodstock\, NY\, 12498\, United States
ATTACH;FMTTYPE=image/jpeg:https://lukefleming.com/wp-content/uploads/2023/03/Maverick-Concerts.jpeg
END:VEVENT
BEGIN:VEVENT
DTSTART;VALUE=DATE:20240624
DTEND;VALUE=DATE:20240715
DTSTAMP:20260424T225511
CREATED:20240119T062349Z
LAST-MODIFIED:20240119T062349Z
UID:1196-1719187200-1721001599@lukefleming.com
SUMMARY:Viola and Chamber Music Faculty at Atlantic Music Festival - Waterville\, ME
DESCRIPTION:For more information about Atlantic Music Festival\, please click here.
URL:https://lukefleming.com/calendar/amf-2024/
LOCATION:Atlantic Music Festival\, Colby College\, 4000 Mayflower Hill Dr\, Waterville\, ME\, 04901\, United States
ATTACH;FMTTYPE=image/png:https://lukefleming.com/wp-content/uploads/2024/01/AMF-Logo.png
END:VEVENT
BEGIN:VEVENT
DTSTART;TZID=America/Chicago:20240607T193000
DTEND;TZID=America/Chicago:20240607T213000
DTSTAMP:20260424T225511
CREATED:20240421T013510Z
LAST-MODIFIED:20240421T013510Z
UID:1204-1717788600-1717795800@lukefleming.com
SUMMARY:Recital with the Manhattan Chamber Players for OKM Music - Bartlesville\, OK
DESCRIPTION:For more information on this event\, please click here. \nFor more information about the Manhattan Chamber Players\, please click here.
URL:https://lukefleming.com/calendar/recital-with-the-manhattan-chamber-players-for-okm-music-bartlesville-ok/
LOCATION:Woolaroc Museum and Wildlife Preserve\, 1925 Woolaroc Ranch Rd\, Bartlesville\, OK\, 74002\, United States
ATTACH;FMTTYPE=image/png:https://lukefleming.com/wp-content/uploads/2024/04/OKM-Music-Logo.png
END:VEVENT
BEGIN:VEVENT
DTSTART;VALUE=DATE:20240521
DTEND;VALUE=DATE:20240529
DTSTAMP:20260424T225511
CREATED:20240421T011836Z
LAST-MODIFIED:20240421T011836Z
UID:1202-1716249600-1716940799@lukefleming.com
SUMMARY:Festival Artist at Derby City Chamber Music Festival - Louisville\, KY
DESCRIPTION:For more information on the Derby City Chamber Music Festival\, please click here.
URL:https://lukefleming.com/calendar/derby-city-2024/
LOCATION:Derby City Music Festival\, Louisville\, KY\, United States
ATTACH;FMTTYPE=image/png:https://lukefleming.com/wp-content/uploads/2023/04/Derby-City-Logo-2.png
END:VEVENT
BEGIN:VEVENT
DTSTART;TZID=America/New_York:20240502T193000
DTEND;TZID=America/New_York:20240502T210000
DTSTAMP:20260424T225511
CREATED:20240119T050225Z
LAST-MODIFIED:20240119T050225Z
UID:1184-1714678200-1714683600@lukefleming.com
SUMMARY:Recital with the Manhattan Chamber Players and JP Jofre for the Americas Society - New York\, NY
DESCRIPTION:For more information on this concert\, please click here. \nFor more information on the Manhattan Chamber Players\, please click here.
URL:https://lukefleming.com/calendar/mcp-americas-society-5-2-24/
LOCATION:Americas Society\, 680 Park Ave\, New York\, NY\, 10065\, United States
ATTACH;FMTTYPE=image/jpeg:https://lukefleming.com/wp-content/uploads/2024/01/Americas-Society-Logo.jpeg
END:VEVENT
BEGIN:VEVENT
DTSTART;TZID=America/New_York:20240315T193000
DTEND;TZID=America/New_York:20240315T213000
DTSTAMP:20260424T225511
CREATED:20230613T191425Z
LAST-MODIFIED:20230613T191425Z
UID:1139-1710531000-1710538200@lukefleming.com
SUMMARY:Recital with the Manhattan Chamber Players at Broadway Presbyterian Church - NYC
DESCRIPTION:For more details on this event\, please click here. \nFor more information on the Manhattan Chamber Players\, please click here.
URL:https://lukefleming.com/calendar/mcp-bpc-3-15-24/
LOCATION:Broadway Presbyterian Church\, 601 W. 114th St.\, New York\, NY\, 10025\, United States
ATTACH;FMTTYPE=image/jpeg:https://lukefleming.com/wp-content/uploads/2016/02/MCP-Group-Headshot-1.jpg
END:VEVENT
BEGIN:VEVENT
DTSTART;TZID=America/New_York:20240313T193000
DTEND;TZID=America/New_York:20240313T213000
DTSTAMP:20260424T225511
CREATED:20230613T190116Z
LAST-MODIFIED:20230613T190116Z
UID:1136-1710358200-1710365400@lukefleming.com
SUMMARY:Recital with the Manhattan Chamber Players for The Peggy Rockefeller Concerts\, Rockefeller University - NYC
DESCRIPTION:For more details on this event\, please click here. \nFor more information on the Manhattan Chamber Players\, please click here.
URL:https://lukefleming.com/calendar/mcp-rockefeller-3-13-24/
LOCATION:Caspary Auditorium\, Rockefeller University\, 1230 York Ave.\, New York\, NY\, 10065\, United States
ATTACH;FMTTYPE=image/jpeg:https://lukefleming.com/wp-content/uploads/2023/06/Peggy-Rockefeller-Concerts-Logo.jpeg
END:VEVENT
BEGIN:VEVENT
DTSTART;TZID=America/New_York:20240305T193000
DTEND;TZID=America/New_York:20240305T213000
DTSTAMP:20260424T225511
CREATED:20230613T194709Z
LAST-MODIFIED:20230613T194709Z
UID:1146-1709667000-1709674200@lukefleming.com
SUMMARY:Recital with the Manhattan Chamber Players for Sanibel Music Festival - Fort Myers\, FL
DESCRIPTION:For more details on this event\, please click here. \nFor more information on the Manhattan Chamber Players\, please click here.
URL:https://lukefleming.com/calendar/mcp-sanibel-3-5-24/
LOCATION:Peace Lutheran Church\, 15840 McGregor Blvd.\, Fort Myers\, FL\, 33908\, United States
ATTACH;FMTTYPE=image/png:https://lukefleming.com/wp-content/uploads/2018/04/Sanibel-Music-Festival.png
END:VEVENT
BEGIN:VEVENT
DTSTART;TZID=America/Chicago:20240224T193000
DTEND;TZID=America/Chicago:20240224T213000
DTSTAMP:20260424T225511
CREATED:20230613T193339Z
LAST-MODIFIED:20230613T194349Z
UID:1141-1708803000-1708810200@lukefleming.com
SUMMARY:Recital with the Manhattan Chamber Players at The Tassel\, Phelps County Center for the Performing Arts - Holdrege\, NE
DESCRIPTION:For more details on this event\, please click here. \nFor more information on the Manhattan Chamber Players\, please click here.
URL:https://lukefleming.com/calendar/recital-with-the-manhattan-chamber-players-at-the-tassel-phelps-county-center-for-the-performing-arts-holdrege-ne/
LOCATION:The Tassel\, Phelps County Center for the Performing Arts\, 1324 Tilden St.\, Holdrege\, NE\, 68949\, United States
ATTACH;FMTTYPE=image/jpeg:https://lukefleming.com/wp-content/uploads/2023/06/The-Tassel.jpeg
END:VEVENT
BEGIN:VEVENT
DTSTART;TZID=America/New_York:20240210T200000
DTEND;TZID=America/New_York:20240210T220000
DTSTAMP:20260424T225511
CREATED:20230613T184909Z
LAST-MODIFIED:20240210T212617Z
UID:1132-1707595200-1707602400@lukefleming.com
SUMMARY:Recital with the Manhattan Chamber Players at the Lenfest Center for the Arts - Lexington\, VA
DESCRIPTION:For more details on this event\, please click here. \nFor more information on the Manhattan Chamber Players\, please click here.
URL:https://lukefleming.com/calendar/mcp-lexington-2-10-24/
LOCATION:Lenfest Center for the Arts\, Washington and Lee University\, 100 Glasgow St.\, Lexington\, VA\, 24450\, United States
ATTACH;FMTTYPE=image/jpeg:https://lukefleming.com/wp-content/uploads/2023/06/Lenfest-Image-Washington-and-Lee.jpeg
END:VEVENT
END:VCALENDAR