BEGIN:VCALENDAR
VERSION:2.0
PRODID:-//Luke Fleming - ECPv6.15.1.1//NONSGML v1.0//EN
CALSCALE:GREGORIAN
METHOD:PUBLISH
X-ORIGINAL-URL:https://lukefleming.com
X-WR-CALDESC:Events for Luke Fleming
REFRESH-INTERVAL;VALUE=DURATION:PT1H
X-Robots-Tag:noindex
X-PUBLISHED-TTL:PT1H
BEGIN:VTIMEZONE
TZID:America/Phoenix
BEGIN:STANDARD
TZOFFSETFROM:-0700
TZOFFSETTO:-0700
TZNAME:MST
DTSTART:20260101T000000
END:STANDARD
END:VTIMEZONE
BEGIN:VTIMEZONE
TZID:America/New_York
BEGIN:DAYLIGHT
TZOFFSETFROM:-0500
TZOFFSETTO:-0400
TZNAME:EDT
DTSTART:20260308T070000
END:DAYLIGHT
BEGIN:STANDARD
TZOFFSETFROM:-0400
TZOFFSETTO:-0500
TZNAME:EST
DTSTART:20261101T060000
END:STANDARD
END:VTIMEZONE
BEGIN:VTIMEZONE
TZID:America/Denver
BEGIN:DAYLIGHT
TZOFFSETFROM:-0700
TZOFFSETTO:-0600
TZNAME:MDT
DTSTART:20260308T090000
END:DAYLIGHT
BEGIN:STANDARD
TZOFFSETFROM:-0600
TZOFFSETTO:-0700
TZNAME:MST
DTSTART:20261101T080000
END:STANDARD
END:VTIMEZONE
BEGIN:VTIMEZONE
TZID:America/Los_Angeles
BEGIN:DAYLIGHT
TZOFFSETFROM:-0800
TZOFFSETTO:-0700
TZNAME:PDT
DTSTART:20260308T100000
END:DAYLIGHT
BEGIN:STANDARD
TZOFFSETFROM:-0700
TZOFFSETTO:-0800
TZNAME:PST
DTSTART:20261101T090000
END:STANDARD
END:VTIMEZONE
BEGIN:VEVENT
DTSTART;TZID=America/Phoenix:20260328T193000
DTEND;TZID=America/Phoenix:20260328T213000
DTSTAMP:20260425T104757
CREATED:20251218T130636Z
LAST-MODIFIED:20251218T131447Z
UID:1436-1774726200-1774733400@lukefleming.com
SUMMARY:Recital with the Manhattan Chamber Players for the Phoenix Chamber Music Society - Phoenix\, AZ
DESCRIPTION:For more information on this event and to purchase tickets\, please click here. \nFor more information on the Manhattan Chamber Players\, please click here. \nProgram: \nJoaquín Turina (1882 – 1949)\nScéne Andalouse\, Op. 7 (1912) \nRobert Schumann (1810 – 1856)\nPiano Quintet in Eb major\, Op. 44 (1842) \nIntermission \nErnest Chausson (1855 – 1899)\nConcerto for Violin\, Piano\, and String Quartet in D major\, Op. 21 (1891) \nManhattan Chamber Players \nKatie Hyun\, Violin\nRubén Rengel\, Violin\nRobin Scott\, Violin\nLuke Fleming\, Viola\nAndrew Janss\, Cello\nKwan Yi\, Piano
URL:https://lukefleming.com/calendar/mcp-phoenix/
LOCATION:Camelback Baptist Church\, 3900 E. Stanford Drive\, Paradise Valley\, AZ\, 85253\, United States
ATTACH;FMTTYPE=image/jpeg:https://lukefleming.com/wp-content/uploads/2025/12/Phoenix-CMS-Logo.jpeg
END:VEVENT
BEGIN:VEVENT
DTSTART;TZID=America/New_York:20260417T193000
DTEND;TZID=America/New_York:20260417T213000
DTSTAMP:20260425T104757
CREATED:20260312T222524Z
LAST-MODIFIED:20260324T223409Z
UID:1452-1776454200-1776461400@lukefleming.com
SUMMARY:Recital with the Manhattan Chamber Players at Broadway Presbyterian Church - NYC
DESCRIPTION:To purchase advance tickets to this concert on Eventbrite\, please click here. \nFor more information about the Manhattan Chamber Players\, please click here. \n$20 at door\, General Admission\nAdmission FREE for students and children \nBroadway Presbyterian Church (114th and Broadway)\n6:30 PM: Doors Open\n7 PM: Pre-Concert Talk and Q&A\n7:30 PM: Concert \nProgram: \nMary Bianco (b. 1938)\nTrio for Violin\, Viola\, and Piano (2026) – World Premiere Performance \nFrank Bridge (1879 – 1941)\nPhantasy Piano Quartet in F# minor\, H. 94 (1910) \nSeth Grosshandler (b. 1958)\nMiniatures for Clarinet\, Cello\, and Piano (2025) \nIntermission \nErnest Chausson (1855 – 1899)\nPiano Quartet in A major\, Op. 30 (1897) \nManhattan Chamber Players \nDavid Fung\, Piano\nSiwoo Kim\, Violin\nLuke Fleming\, Viola\nBrook Speltz\, Cello\nAlec Manasse\, Clarinet
URL:https://lukefleming.com/calendar/mcp-bpc-4-17-26/
LOCATION:Broadway Presbyterian Church\, 601 W. 114th St.\, New York\, NY\, 10025\, United States
END:VEVENT
BEGIN:VEVENT
DTSTART;TZID=America/Denver:20260419T190000
DTEND;TZID=America/Denver:20260419T210000
DTSTAMP:20260425T104757
CREATED:20251218T124757Z
LAST-MODIFIED:20251218T125154Z
UID:1428-1776625200-1776632400@lukefleming.com
SUMMARY:Recital with the Manhattan Chamber Players for Calgary ProMusica - Calgary\, Canada
DESCRIPTION:For more information about this event and to purchase tickets\, please click here. \nFor more information about the Manhattan Chamber Players\, please click here. \nProgram: \nFrank Bridge (1879 – 1941)\nPhantasy Piano Quartet in F# minor\, H. 94 (1910) \nRobert Schumann (1810 – 1856)\nPiano Quartet in Eb major\, Op. 47 (1842) \nIntermission \nErnest Chausson (1855 – 1899)\nPiano Quartet in A major\, Op. 30 (1897) \nManhattan Chamber Players \nDavid Fung\, Piano\nSiwoo Kim\, Violin\nLuke Fleming\, Viola\nBrook Speltz\, Cello
URL:https://lukefleming.com/calendar/mcp-calgary-4-19-26/
LOCATION:Eckhardt-Gramatté Hall\, 2500 University Dr. NW\, Calgary\, Alberta\, T2N 1N4\, Canada
ATTACH;FMTTYPE=image/jpeg:https://lukefleming.com/wp-content/uploads/2025/12/Calgary-ProMusica-Logo-1.jpeg
END:VEVENT
BEGIN:VEVENT
DTSTART;TZID=America/Denver:20260420T193000
DTEND;TZID=America/Denver:20260420T213000
DTSTAMP:20260425T104757
CREATED:20251218T124952Z
LAST-MODIFIED:20251218T131416Z
UID:1432-1776713400-1776720600@lukefleming.com
SUMMARY:Recital with the Manhattan Chamber Players for Calgary ProMusica - Calgary\, Canada
DESCRIPTION:For more information about this event and to purchase tickets\, please click here. \nFor more information about the Manhattan Chamber Players\, please click here. \nProgram: \nFrank Bridge (1879 – 1941)\nPhantasy Piano Quartet in F# minor\, H. 94 (1910) \nRobert Schumann (1810 – 1856)\nPiano Quartet in Eb major\, Op. 47 (1842) \nIntermission \nErnest Chausson (1855 – 1899)\nPiano Quartet in A major\, Op. 30 (1897) \nManhattan Chamber Players \nDavid Fung\, Piano\nSiwoo Kim\, Violin\nLuke Fleming\, Viola\nBrook Speltz\, Cello
URL:https://lukefleming.com/calendar/mcp-calgary-4-20-26/
LOCATION:Eckhardt-Gramatté Hall\, 2500 University Dr. NW\, Calgary\, Alberta\, T2N 1N4\, Canada
ATTACH;FMTTYPE=image/jpeg:https://lukefleming.com/wp-content/uploads/2025/12/Calgary-ProMusica-Logo-1.jpeg
END:VEVENT
BEGIN:VEVENT
DTSTART;TZID=America/Los_Angeles:20260517T150000
DTEND;TZID=America/Los_Angeles:20260517T170000
DTSTAMP:20260425T104757
CREATED:20260416T185050Z
LAST-MODIFIED:20260416T185457Z
UID:1462-1779030000-1779037200@lukefleming.com
SUMMARY:Recital with the Manhattan Chamber Players for the Oregon Bach Festival - Eugene\, OR
DESCRIPTION:For more information about this event and to purchase tickets\, please click here. \nFor more information about the Manhattan Chamber Players\, please click here. \nProgram: \nW.A. Mozart (1756 – 1791)\nDivertimento in D major\, K. 136 (1772)\nAdagio and Fugue in C minor\, K. 546 (1788) \nFelix Mendelssohn (1809 – 1847)\nOctet in Eb major\, Op. 20 \nIntermission \nAndrea Casarrubios (b. 1988)\nOverture and Chorale (2020) \nAaron Copland (1900-1990)\nAppalachian Spring (1944) \nManhattan Chamber Players \nKatie Hyun\, Violin\nRubén Rengel\, Violin\nKeiko Tokunaga\, Violin\nYezu Woo\, Violin\nLuke Fleming\, Viola\nLaura Liu\, Viola\nEstelle Choi\, Cello\nAndrew Janss\, Cello\nChris Kim\, Double Bass\nKwan Yi\, Piano\nMelissa Baker\, Flute\nAlec Manasse\, Clarinet\nNik Hooks\, Bassoon
URL:https://lukefleming.com/calendar/mcp-oregon-bach-festival-5-17-26/
LOCATION:Beall Concert Hall\, 961 E 18th Ave\, Eugene\, OR\, 97403\, United States
ATTACH;FMTTYPE=image/png:https://lukefleming.com/wp-content/uploads/2026/04/Oregon-Bach-Festival-Logo.png
END:VEVENT
BEGIN:VEVENT
DTSTART;VALUE=DATE:20260605
DTEND;VALUE=DATE:20260608
DTSTAMP:20260425T104757
CREATED:20260416T185946Z
LAST-MODIFIED:20260416T185946Z
UID:1468-1780617600-1780876799@lukefleming.com
SUMMARY:Ensemble-in-Residence with the Manhattan Chamber Players at OKM Music - Bartlesville\, OK
DESCRIPTION:For more information about OKM Music and their 2026 Season\, please click here. \nMore more information about the Manhattan Chamber Players\, please click here.
URL:https://lukefleming.com/calendar/mcp-okm-2026/
LOCATION:CO
ATTACH;FMTTYPE=image/png:https://lukefleming.com/wp-content/uploads/2024/04/OKM-Music-Logo.png
END:VEVENT
END:VCALENDAR