BEGIN:VCALENDAR
VERSION:2.0
PRODID:-//Luke Fleming - ECPv6.15.1.1//NONSGML v1.0//EN
CALSCALE:GREGORIAN
METHOD:PUBLISH
X-WR-CALNAME:Luke Fleming
X-ORIGINAL-URL:https://lukefleming.com
X-WR-CALDESC:Events for Luke Fleming
REFRESH-INTERVAL;VALUE=DURATION:PT1H
X-Robots-Tag:noindex
X-PUBLISHED-TTL:PT1H
BEGIN:VTIMEZONE
TZID:America/Chicago
BEGIN:DAYLIGHT
TZOFFSETFROM:-0600
TZOFFSETTO:-0500
TZNAME:CDT
DTSTART:20220313T080000
END:DAYLIGHT
BEGIN:STANDARD
TZOFFSETFROM:-0500
TZOFFSETTO:-0600
TZNAME:CST
DTSTART:20221106T070000
END:STANDARD
BEGIN:DAYLIGHT
TZOFFSETFROM:-0600
TZOFFSETTO:-0500
TZNAME:CDT
DTSTART:20230312T080000
END:DAYLIGHT
BEGIN:STANDARD
TZOFFSETFROM:-0500
TZOFFSETTO:-0600
TZNAME:CST
DTSTART:20231105T070000
END:STANDARD
END:VTIMEZONE
BEGIN:VTIMEZONE
TZID:America/New_York
BEGIN:DAYLIGHT
TZOFFSETFROM:-0500
TZOFFSETTO:-0400
TZNAME:EDT
DTSTART:20220313T070000
END:DAYLIGHT
BEGIN:STANDARD
TZOFFSETFROM:-0400
TZOFFSETTO:-0500
TZNAME:EST
DTSTART:20221106T060000
END:STANDARD
BEGIN:DAYLIGHT
TZOFFSETFROM:-0500
TZOFFSETTO:-0400
TZNAME:EDT
DTSTART:20230312T070000
END:DAYLIGHT
BEGIN:STANDARD
TZOFFSETFROM:-0400
TZOFFSETTO:-0500
TZNAME:EST
DTSTART:20231105T060000
END:STANDARD
END:VTIMEZONE
BEGIN:VTIMEZONE
TZID:America/Los_Angeles
BEGIN:DAYLIGHT
TZOFFSETFROM:-0800
TZOFFSETTO:-0700
TZNAME:PDT
DTSTART:20220313T100000
END:DAYLIGHT
BEGIN:STANDARD
TZOFFSETFROM:-0700
TZOFFSETTO:-0800
TZNAME:PST
DTSTART:20221106T090000
END:STANDARD
END:VTIMEZONE
BEGIN:VTIMEZONE
TZID:America/Regina
BEGIN:STANDARD
TZOFFSETFROM:-0600
TZOFFSETTO:-0600
TZNAME:CST
DTSTART:20220101T000000
END:STANDARD
END:VTIMEZONE
BEGIN:VTIMEZONE
TZID:America/Phoenix
BEGIN:STANDARD
TZOFFSETFROM:-0700
TZOFFSETTO:-0700
TZNAME:MST
DTSTART:20220101T000000
END:STANDARD
END:VTIMEZONE
BEGIN:VEVENT
DTSTART;TZID=America/Chicago:20230510T193000
DTEND;TZID=America/Chicago:20230510T210000
DTSTAMP:20260425T092444
CREATED:20230404T183315Z
LAST-MODIFIED:20230404T204029Z
UID:1072-1683747000-1683752400@lukefleming.com
SUMMARY:Recital with the Lott Quartet at University of New Orleans Performing Arts Center - New Orleans\, LA
DESCRIPTION:To purchase tickets to this event\, please click here. \nFor more information about the Lott Quartet\, please click here. \nDoors Open: 6:30 PM\nPre-Concert Talk and Q&A with Luke Fleming: 7 PM\nConcert: 7:30 PM \nProgram: \nLudwig van Beethoven (1770 – 1827)\nString Quartet No. 13 in Bb major\, Op. 130 (1826)\nGroße Fuge\, Op. 133 (1826) \nGiacomo Puccini (1858 – 1924)\nCrisantemi (1890)
URL:https://lukefleming.com/calendar/lott-quartet-uno-spring-recital/
LOCATION:UNO Performing Arts Center\, St. Anthony Ave.\, New Orleans\, LA\, 70122\, United States
ATTACH;FMTTYPE=image/jpeg:https://lukefleming.com/wp-content/uploads/2022/04/04-Lott-Quartet-Headshot-1.jpg
END:VEVENT
BEGIN:VEVENT
DTSTART;TZID=America/New_York:20230423T160000
DTEND;TZID=America/New_York:20230423T180000
DTSTAMP:20260425T092444
CREATED:20221216T201754Z
LAST-MODIFIED:20221216T203002Z
UID:1059-1682265600-1682272800@lukefleming.com
SUMMARY:Recital with the Manhattan Chamber Players for Close Encounters with Music - Great Barrington\, MA
DESCRIPTION:For more information on this concert\, please click here. \nFor more information on the Manhattan Chamber Players\, please click here.
URL:https://lukefleming.com/calendar/mcp-great-barrington-4-23-23/
LOCATION:Mahaiwe Performing Arts Center\, 14 Castle Street\, Great Barrington\, MA\, 01201\, United States
ATTACH;FMTTYPE=image/jpeg:https://lukefleming.com/wp-content/uploads/2022/12/Close-encounters-Logo.jpeg
END:VEVENT
BEGIN:VEVENT
DTSTART;TZID=America/New_York:20230420T193000
DTEND;TZID=America/New_York:20230420T213000
DTSTAMP:20260425T092444
CREATED:20221216T195306Z
LAST-MODIFIED:20221216T195306Z
UID:1051-1682019000-1682026200@lukefleming.com
SUMMARY:Recital with the Manhattan Chamber Players for Rhode Island Chamber Concerts - Providence\, RI
DESCRIPTION:For more information on this concert\, please click here. \nFor more information on the Manhattan Chamber Players\, please click here.
URL:https://lukefleming.com/calendar/mcp-rhode-island-4-20-23/
LOCATION:Bishop McVinney Auditorium\, 43 Dave Gavitt Way\, Providence\, RI\, 02903\, United States
ATTACH;FMTTYPE=image/png:https://lukefleming.com/wp-content/uploads/2022/12/RI-Concerts-Logo.png
END:VEVENT
BEGIN:VEVENT
DTSTART;TZID=America/New_York:20230316T193000
DTEND;TZID=America/New_York:20230316T213000
DTSTAMP:20260425T092444
CREATED:20221216T193819Z
LAST-MODIFIED:20221216T193819Z
UID:1047-1678995000-1679002200@lukefleming.com
SUMMARY:Recital with the Manhattan Chamber Players for the Presidential Concert Series\, Lee University - Cleveland\, TN
DESCRIPTION:For more information on this concert\, please click here. \nFor more information on the Manhattan Chamber Players\, please click here.
URL:https://lukefleming.com/calendar/mcp-lee-university-3-16-23/
LOCATION:Pangle Hall\, Lee University\, 340 Church St NE\, Cleveland\, TN\, 37311\, United States
ATTACH;FMTTYPE=image/png:https://lukefleming.com/wp-content/uploads/2022/12/Lee-University-Logo.png
END:VEVENT
BEGIN:VEVENT
DTSTART;TZID=America/New_York:20230313T193000
DTEND;TZID=America/New_York:20230313T213000
DTSTAMP:20260425T092444
CREATED:20220913T174858Z
LAST-MODIFIED:20220913T180135Z
UID:1019-1678735800-1678743000@lukefleming.com
SUMMARY:Recital with the Manhattan Chamber Players at Holy Trinity Lutheran Church - NYC
DESCRIPTION:For more details on this event\, please click here. \nFor more information on the Manhattan Chamber Players\, please click here.
URL:https://lukefleming.com/calendar/mcp-htlc-march2023/
LOCATION:Holy Trinity Lutheran Church\, 3 W. 65th St.\, New York\, NY\, 10023\, United States
ATTACH;FMTTYPE=image/jpeg:https://lukefleming.com/wp-content/uploads/2018/09/05-MCP-Logo.jpg
END:VEVENT
BEGIN:VEVENT
DTSTART;TZID=America/New_York:20230311T150000
DTEND;TZID=America/New_York:20230311T160000
DTSTAMP:20260425T092444
CREATED:20221216T190025Z
LAST-MODIFIED:20221216T190025Z
UID:1044-1678546800-1678550400@lukefleming.com
SUMMARY:Recital with the Manhattan Chamber Players for Ringwood Friends of Music - Ringwood\, NJ
DESCRIPTION:For more information on this concert\, please click here. \nFor more information on the Manhattan Chamber Players\, please click here.
URL:https://lukefleming.com/calendar/mcp-ringwood-3-11-23/
LOCATION:Community Presbyterian Church\, 145 Carletondale Road\, Ringwood\, NJ\, 07456\, United States
ATTACH;FMTTYPE=image/jpeg:https://lukefleming.com/wp-content/uploads/2017/01/MCP-Group-Headshot-1.jpg
END:VEVENT
BEGIN:VEVENT
DTSTART;VALUE=DATE:20230211
DTEND;VALUE=DATE:20230227
DTSTAMP:20260425T092444
CREATED:20221216T200616Z
LAST-MODIFIED:20221216T200650Z
UID:1055-1676073600-1677455999@lukefleming.com
SUMMARY:Festival Artist at Festival de Febrero - Ajijic\, Jalisco\, Mexico
DESCRIPTION:For more information on the Festival de Febrero\, please click here.
URL:https://lukefleming.com/calendar/festival-de-febrero-2023/
LOCATION:Northern Lights Music Festival\, Ajijic\, Jalisco\, Mexico
ATTACH;FMTTYPE=image/jpeg:https://lukefleming.com/wp-content/uploads/2016/11/FF.jpg
END:VEVENT
BEGIN:VEVENT
DTSTART;TZID=America/New_York:20230203T193000
DTEND;TZID=America/New_York:20230203T213000
DTSTAMP:20260425T092444
CREATED:20220913T185716Z
LAST-MODIFIED:20220913T185730Z
UID:1038-1675452600-1675459800@lukefleming.com
SUMMARY:Recital with the Manhattan Chamber Players for the Harvard Musical Association - Cambridge\, MA
DESCRIPTION:Private Concert for HMA members \nFor more information on the Manhattan Chamber Players\, please click here.
URL:https://lukefleming.com/calendar/mcp-hma-feb2023/
LOCATION:Harvard Musical Association\, 57A Chestnut St.\, Boston\, MA\, 02108\, United States
ATTACH;FMTTYPE=image/jpeg:https://lukefleming.com/wp-content/uploads/2021/01/HMA-Logo.jpg
END:VEVENT
BEGIN:VEVENT
DTSTART;TZID=America/New_York:20230202T193000
DTEND;TZID=America/New_York:20230202T210000
DTSTAMP:20260425T092444
CREATED:20220913T174136Z
LAST-MODIFIED:20220913T174136Z
UID:1017-1675366200-1675371600@lukefleming.com
SUMMARY:Recital with the Manhattan Chamber Players at Baruch Performing Arts Center - NYC
DESCRIPTION:For more details on this event\, please click here. \nFor more information on the Manhattan Chamber Players\, please click here.
URL:https://lukefleming.com/calendar/mcp-baruch-feb2023/
LOCATION:Engelman Recital Hall\, Baruch Performing Arts Center\, 55 Lexington Ave.\, New York\, NY\, 10010\, United States
ATTACH;FMTTYPE=image/jpeg:https://lukefleming.com/wp-content/uploads/2016/09/05-MCP-Logo.jpg
END:VEVENT
BEGIN:VEVENT
DTSTART;TZID=America/New_York:20221204T160000
DTEND;TZID=America/New_York:20221204T180000
DTSTAMP:20260425T092444
CREATED:20220913T182623Z
LAST-MODIFIED:20220913T182623Z
UID:1025-1670169600-1670176800@lukefleming.com
SUMMARY:Recital with the Manhattan Chamber Players for Wilton Candlelight Music - Wilton\, CT
DESCRIPTION:For more information on Wilton Candlelight Music and to purchase tickets\, please click here. \nFor more information on the Manhattan Chamber Players\, please click here.
URL:https://lukefleming.com/calendar/mcp-wilton-dec2022/
LOCATION:Wilton Congregational Church\, 70 Ridgefield Road\, Wilton\, CT\, 06897\, United States
ATTACH;FMTTYPE=image/jpeg:https://lukefleming.com/wp-content/uploads/2017/01/MCP-Group-Headshot-1.jpg
END:VEVENT
BEGIN:VEVENT
DTSTART;TZID=America/New_York:20221203T193000
DTEND;TZID=America/New_York:20221203T213000
DTSTAMP:20260425T092444
CREATED:20220913T173201Z
LAST-MODIFIED:20220913T173314Z
UID:1014-1670095800-1670103000@lukefleming.com
SUMMARY:Recital with the Manhattan Chamber Players at Holy Trinity Lutheran Church - NYC
DESCRIPTION:For more details on this event\, please click here. \nFor more information on the Manhattan Chamber Players\, please click here.
URL:https://lukefleming.com/calendar/mcp-htlc-dec2022/
LOCATION:Holy Trinity Lutheran Church\, 3 W. 65th St.\, New York\, NY\, 10023\, United States
ATTACH;FMTTYPE=image/jpeg:https://lukefleming.com/wp-content/uploads/2016/09/05-MCP-Logo.jpg
END:VEVENT
BEGIN:VEVENT
DTSTART;TZID=America/New_York:20221120T163000
DTEND;TZID=America/New_York:20221120T183000
DTSTAMP:20260425T092444
CREATED:20220913T190938Z
LAST-MODIFIED:20220913T190938Z
UID:1040-1668961800-1668969000@lukefleming.com
SUMMARY:Recital with the Manhattan Chamber Players for the Red Bank Chamber Music Society - Red Bank\, NJ
DESCRIPTION:For more information on the Red Bank Chamber Music Society and for ticket info\, please click here. \nFor more information about the Manhattan Chamber Players\, please click here.
URL:https://lukefleming.com/calendar/mcp-rbcms-nov2022/
LOCATION:Trinity Church Auditorium\, 50 White Street\, Red Bank\, NJ\, 07701\, United States
ATTACH;FMTTYPE=image/png:https://lukefleming.com/wp-content/uploads/2018/04/Red-Bank.png
END:VEVENT
BEGIN:VEVENT
DTSTART;TZID=America/New_York:20221115T193000
DTEND;TZID=America/New_York:20221115T213000
DTSTAMP:20260425T092444
CREATED:20220913T185100Z
LAST-MODIFIED:20220913T185100Z
UID:1032-1668540600-1668547800@lukefleming.com
SUMMARY:Recital with the Manhattan Chamber Players for the Chamber Music Society of Williamsburg - Williamsburg\, VA
DESCRIPTION:For more information on the Chamber Music Society of Williamsburg and to purchase tickets for this concert\, please click here. \nFor more information on the Manhattan Chamber Players\, please click here.
URL:https://lukefleming.com/calendar/mcp-cmswilliamsburg-nov2022/
LOCATION:Williamsburg Library Theater\, 515 Scotland St.\, Williamsburg\, VA\, 23185\, United States
ATTACH;FMTTYPE=image/png:https://lukefleming.com/wp-content/uploads/2022/09/MCP-Williamsburg.png
END:VEVENT
BEGIN:VEVENT
DTSTART;TZID=America/New_York:20221114T193000
DTEND;TZID=America/New_York:20221114T213000
DTSTAMP:20260425T092444
CREATED:20220913T183839Z
LAST-MODIFIED:20220913T183839Z
UID:1028-1668454200-1668461400@lukefleming.com
SUMMARY:Recital with the Manhattan Chamber Players for the Feldman Chamber Music Society - Norfolk\, VA
DESCRIPTION:For more information on the Feldman Chamber Music Society and to purchase tickets\, please click here. \nFor more information on the Manhattan Chamber Players\, please click here.
URL:https://lukefleming.com/calendar/recital-with-the-manhattan-chamber-players-for-the-feldman-chamber-music-society-norfolk-va/
LOCATION:Kaufman Theatre\, Chrysler Museum of Art\, 1 Memorial Pl\, Norfolk\, VA\, 23510\, United States
ATTACH;FMTTYPE=image/png:https://lukefleming.com/wp-content/uploads/2022/09/Feldman-Logo.png
END:VEVENT
BEGIN:VEVENT
DTSTART;TZID=America/New_York:20221111T193000
DTEND;TZID=America/New_York:20221111T213000
DTSTAMP:20260425T092444
CREATED:20220913T185554Z
LAST-MODIFIED:20220913T185554Z
UID:1036-1668195000-1668202200@lukefleming.com
SUMMARY:Recital with the Manhattan Chamber Players for the Harvard Musical Association - Cambridge\, MA
DESCRIPTION:Private Concert for HMA members \nFor more information on the Manhattan Chamber Players\, please click here.
URL:https://lukefleming.com/calendar/mcp-hma-nov2022/
LOCATION:Harvard Musical Association\, 57A Chestnut St.\, Boston\, MA\, 02108\, United States
ATTACH;FMTTYPE=image/jpeg:https://lukefleming.com/wp-content/uploads/2021/01/HMA-Logo.jpg
END:VEVENT
BEGIN:VEVENT
DTSTART;TZID=America/New_York:20221026T193000
DTEND;TZID=America/New_York:20221026T210000
DTSTAMP:20260425T092444
CREATED:20220913T171026Z
LAST-MODIFIED:20220913T171026Z
UID:1012-1666812600-1666818000@lukefleming.com
SUMMARY:Recital with the Manhattan Chamber Players at Baruch Performing Arts Center - NYC
DESCRIPTION:For more details on this event\, please click here. \nFor more information on the Manhattan Chamber Players\, please click here.
URL:https://lukefleming.com/calendar/mcp-baruch-oct2022/
LOCATION:Engelman Recital Hall\, Baruch Performing Arts Center\, 55 Lexington Ave.\, New York\, NY\, 10010\, United States
ATTACH;FMTTYPE=image/jpeg:https://lukefleming.com/wp-content/uploads/2016/09/05-MCP-Logo.jpg
END:VEVENT
BEGIN:VEVENT
DTSTART;VALUE=DATE:20221006
DTEND;VALUE=DATE:20221020
DTSTAMP:20260425T092444
CREATED:20220602T173519Z
LAST-MODIFIED:20220602T173519Z
UID:987-1665014400-1666223999@lukefleming.com
SUMMARY:Artistic Director and Violist at the Crescent City Chamber Music Festival - New Orleans\, LA
DESCRIPTION:For more information on the Crescent City Chamber Music Festival\, please click here.
URL:https://lukefleming.com/calendar/cccmf-2022/
LOCATION:Crescent City Chamber Music Festival\, New Orleans\, LA\, United States
ATTACH;FMTTYPE=image/png:https://lukefleming.com/wp-content/uploads/2018/02/CCCMF-logo-blue-without-dates-SMALL.png
END:VEVENT
BEGIN:VEVENT
DTSTART;TZID=America/Chicago:20220929T193000
DTEND;TZID=America/Chicago:20220929T213000
DTSTAMP:20260425T092445
CREATED:20220604T173245Z
LAST-MODIFIED:20220604T173245Z
UID:989-1664479800-1664487000@lukefleming.com
SUMMARY:Recital with the Manhattan Chamber Players at Shannon Hall\, Wisconsin Union Theater - Madison\, WI
DESCRIPTION:For further details on this event\, please click here. \nFor more information on the Madison Union Theater and to purchase tickets for this concert\, please click here.
URL:https://lukefleming.com/calendar/mcp-madison-2022/
LOCATION:Shannon Hall\, Wisconsin Union Theater\, 800 Langdon St.\, Madison\, WI\, 53703\, United States
ATTACH;FMTTYPE=image/jpeg:https://lukefleming.com/wp-content/uploads/2022/06/University-of-Wisconsin-logo.jpeg
END:VEVENT
BEGIN:VEVENT
DTSTART;TZID=America/Los_Angeles:20220925T140000
DTEND;TZID=America/Los_Angeles:20220925T170000
DTSTAMP:20260425T092445
CREATED:20220819T204419Z
LAST-MODIFIED:20220819T204419Z
UID:1008-1664114400-1664125200@lukefleming.com
SUMMARY:Concert No. 2 with the Manhattan Chamber Players for the Lily Rock Chamber Music Festival - Idyllwild\, CA
DESCRIPTION:For more details on this event\, please click here. \nFor more information on the Manhattan Chamber Players\, please click here.
URL:https://lukefleming.com/calendar/lilyrock-concert2/
LOCATION:St. Hugh’s Episcopal Church\, 25525 Tahquitz Dr\, Idyllwild-Pine Cove\, CA\, 92549\, United States
ATTACH;FMTTYPE=image/jpeg:https://lukefleming.com/wp-content/uploads/2022/08/Lily-Rock-Flyer-1-scaled.jpeg
END:VEVENT
BEGIN:VEVENT
DTSTART;TZID=America/Los_Angeles:20220924T160000
DTEND;TZID=America/Los_Angeles:20220924T173000
DTSTAMP:20260425T092445
CREATED:20220819T203606Z
LAST-MODIFIED:20220819T204506Z
UID:1004-1664035200-1664040600@lukefleming.com
SUMMARY:Concert No. 1 with the Manhattan Chamber Players for the Lily Rock Chamber Music Festival - Idyllwild\, CA
DESCRIPTION:For more details on this event\, please click here. \nFor more information on the Manhattan Chamber Players\, please click here.
URL:https://lukefleming.com/calendar/lilyrock-concert1/
LOCATION:Pearlman Mountain Cabin\, 52820 Middleridge Dr\, Idyllwild-Pine Cove\, CA\, 92549\, United States
ATTACH;FMTTYPE=image/jpeg:https://lukefleming.com/wp-content/uploads/2022/08/Lily-Rock-Flyer-1-scaled.jpeg
END:VEVENT
BEGIN:VEVENT
DTSTART;TZID=America/Regina:20220918T150000
DTEND;TZID=America/Regina:20220918T163000
DTSTAMP:20260425T092445
CREATED:20220605T154722Z
LAST-MODIFIED:20220605T154811Z
UID:993-1663513200-1663518600@lukefleming.com
SUMMARY:Recital with the Manhattan Chamber Players for Cecilian Chamber Series - Regina\, Canada
DESCRIPTION:For more information on this event\, please click here. \nFor more information on Cecilian Chamber Series and to purchase tickets for this concert\, please click here. \nFor more information on the Manhattan Chamber Players\, please click here.
URL:https://lukefleming.com/calendar/ceciian-regina-mcp/
LOCATION:Darke Hall\, 2255 College Avenue\, Regina\, SK\, SK S4P 0S9\, Canada
ATTACH;FMTTYPE=image/jpeg:https://lukefleming.com/wp-content/uploads/2022/06/Cecilian-Logo.jpeg
END:VEVENT
BEGIN:VEVENT
DTSTART;TZID=America/New_York:20220910T193000
DTEND;TZID=America/New_York:20220910T210000
DTSTAMP:20260425T092445
CREATED:20220605T161707Z
LAST-MODIFIED:20220605T161707Z
UID:1001-1662838200-1662843600@lukefleming.com
SUMMARY:Recital with the Manhattan Chamber Players for Quogue Chamber Music - Quogue\, NY
DESCRIPTION:For more information on this event\, please click here. \nFor more information on Quogue Chamber Music and to purchase tickets\, please click here. \nFor more information on the Manhattan Chamber Players\, please click here.
URL:https://lukefleming.com/calendar/quogue-mcp-2022/
LOCATION:Quogue Community Hall\, 125 Jessup Ave.\, Quogue\, NY\, 11959\, United States
ATTACH;FMTTYPE=image/jpeg:https://lukefleming.com/wp-content/uploads/2020/03/QuogueChamberMusicLogo.jpg
END:VEVENT
BEGIN:VEVENT
DTSTART;TZID=America/Phoenix:20220903T193000
DTEND;TZID=America/Phoenix:20220903T210000
DTSTAMP:20260425T092445
CREATED:20220605T160147Z
LAST-MODIFIED:20220605T160147Z
UID:999-1662233400-1662238800@lukefleming.com
SUMMARY:Recital No. 2 with the Manhattan Chamber Players for the Grand Canyon Music Festival - Grand Canyon Village\, AZ
DESCRIPTION:For more information on this event\, please click here. \nFor more information about the Grand Canyon Music Festival and for ticketing information\, please click here. \nFor more information on the Manhattan Chamber Players\, please click here.
URL:https://lukefleming.com/calendar/recital-no-2-with-the-manhattan-chamber-players-for-the-grand-canyon-music-festival-grand-canyon-village-az/
LOCATION:Shrine of the Ages\, 20 S. Entrance Rd\, Grand Canyon Village\, AZ\, 86023\, United States
ATTACH;FMTTYPE=image/jpeg:https://lukefleming.com/wp-content/uploads/2018/04/Grand-Canyon.jpg
END:VEVENT
BEGIN:VEVENT
DTSTART;TZID=America/Phoenix:20220902T193000
DTEND;TZID=America/Phoenix:20220902T210000
DTSTAMP:20260425T092445
CREATED:20220605T160002Z
LAST-MODIFIED:20220605T160002Z
UID:997-1662147000-1662152400@lukefleming.com
SUMMARY:Recital No. 1 with the Manhattan Chamber Players for the Grand Canyon Music Festival - Grand Canyon Village\, AZ
DESCRIPTION:For more information on this event\, please click here. \nFor more information about the Grand Canyon Music Festival and for ticketing information\, please click here. \nFor more information on the Manhattan Chamber Players\, please click here.
URL:https://lukefleming.com/calendar/gcmf-recital1-mcp-2022/
LOCATION:Shrine of the Ages\, 20 S. Entrance Rd\, Grand Canyon Village\, AZ\, 86023\, United States
ATTACH;FMTTYPE=image/jpeg:https://lukefleming.com/wp-content/uploads/2018/04/Grand-Canyon.jpg
END:VEVENT
BEGIN:VEVENT
DTSTART;VALUE=DATE:20220823
DTEND;VALUE=DATE:20220827
DTSTAMP:20260425T092445
CREATED:20220601T205507Z
LAST-MODIFIED:20220602T173359Z
UID:985-1661212800-1661558399@lukefleming.com
SUMMARY:Festival Artist at Surf and Sounds: OBX Chamber Music Series - Outer Banks\, NC
DESCRIPTION:For more information on OBX Chamber Music Series\, please click here.
URL:https://lukefleming.com/calendar/obx-2022/
LOCATION:Outer Banks Chamber Music Festival\, Southern Shores\, NC\, United States
ATTACH;FMTTYPE=image/jpeg:https://lukefleming.com/wp-content/uploads/2016/02/OBX.jpg
END:VEVENT
BEGIN:VEVENT
DTSTART;VALUE=DATE:20220731
DTEND;VALUE=DATE:20220816
DTSTAMP:20260425T092445
CREATED:20220516T200914Z
LAST-MODIFIED:20220516T200914Z
UID:978-1659225600-1660607999@lukefleming.com
SUMMARY:Viola Faculty at Festival del Lago - Ajijic\, Mexico
DESCRIPTION:For more information on the Festival del Lago\, please click here.
URL:https://lukefleming.com/calendar/fdl-2022/
LOCATION:Festival del Lago\, Ajijic\, Jalisco\, Mexico
ATTACH;FMTTYPE=image/png:https://lukefleming.com/wp-content/uploads/2018/02/Festival-del-Lago.png
END:VEVENT
BEGIN:VEVENT
DTSTART;TZID=America/New_York:20220708T193000
DTEND;TZID=America/New_York:20220708T213000
DTSTAMP:20260425T092445
CREATED:20220429T032443Z
LAST-MODIFIED:20220429T032459Z
UID:971-1657308600-1657315800@lukefleming.com
SUMMARY:Recital with the Manhattan Chamber Players at Princeton University Summer Chamber Concerts - Princeton\, NJ
DESCRIPTION:For more information on Princeton University Summer Chamber Concerts and this event\, please click here. \nFor more information on the Manhattan Chamber Players\, please click here. \nProgram: \nW.A. Mozart (1756 – 1791)\nPiano Quartet No. 2 in Eb major\, K. 493 (1786) \nErnst von Dohnányi (1877 – 1960)\nSerenade for String Trio in C major\, Op. 10 (1903) \nIntermission \nRobert Schumann (1810 – 1856)\nPiano Quartet in Eb major\, Op. 47 (1842) \nManhattan Chamber Players \nAdam Golka\, Piano\nBrendan Speltz\, Violin\nLuke Fleming\, Viola\nBrook Speltz\, Cello
URL:https://lukefleming.com/calendar/mcp-princeton-2022/
LOCATION:Richardson Auditorium\, Alexander Hall\, Princeton University\, Princeton\, NJ\, United States
ATTACH;FMTTYPE=image/jpeg:https://lukefleming.com/wp-content/uploads/2022/04/princeton-summer.jpeg
END:VEVENT
BEGIN:VEVENT
DTSTART;TZID=America/New_York:20220707T193000
DTEND;TZID=America/New_York:20220707T193000
DTSTAMP:20260425T092445
CREATED:20190305T192400Z
LAST-MODIFIED:20220429T023703Z
UID:763-1657222200-1657222200@lukefleming.com
SUMMARY:Recital for Minnesota Beethoven Festival with the Manhattan Chamber Players - Winona\, MN
DESCRIPTION:For more information on the Manhattan Chamber Players\, please click here. \nFor more information on this event\, please click here. \nProgram: \nAaron Copland (1900-1990)\nAppalachian Spring (1944) \nBéla Bartók (1881 – 1945)\nContrasts for Clarinet\, Violin\, and Piano\, Sz. 111 (1938) \nIntermission \nLudwig van Beethoven (1770 – 1827)\nSeptet in Eb major for Violin\, Viola\, Cello\, Double Bass\, Clarinet\, Bassoon\, and Horn\, Op. 20 (1800) \nManhattan Chamber Players \nAdam Golka\, Piano\nElizabeth Fayette\, Violin\nSiwoo Kim\, Violin\nGrace Park\, Violin\nBrendan Speltz\, Violin\nLuke Fleming\, Viola\nPierre Lapointe\, Viola\nAndrew Janss\, Cello\nBrook Speltz\, Cello\nAndrew Trombley\, Double Bass\nEmi Ferguson\, Flute\nMark Dover\, Clarinet\nBrad Balliett\, Bassoon\nLaura Weiner\, Horn
URL:https://lukefleming.com/calendar/recital-manhattan-chamber-players-minnesota-beethoven-festival-winona-mn-2/
LOCATION:Page Theatre\, St. Mary’s University\, 700 Terrace Heights\, Winona\, MN\, 55987\, United States
ATTACH;FMTTYPE=image/jpeg:https://lukefleming.com/wp-content/uploads/2017/01/Minnesota-Beethoven-Festival.jpg
END:VEVENT
BEGIN:VEVENT
DTSTART;VALUE=DATE:20220610
DTEND;VALUE=DATE:20220613
DTSTAMP:20260425T092445
CREATED:20220429T031127Z
LAST-MODIFIED:20220429T031127Z
UID:968-1654819200-1655078399@lukefleming.com
SUMMARY:Festival Artist at Serafin Summer Music - Wilmington\, DE
DESCRIPTION:For more information on Serafin Summer Music and concert programs/venues\, please click here.
URL:https://lukefleming.com/calendar/serafin-summer-music/
LOCATION:Music School of Delaware\, 4101 Washington St\, Wilmington\, DE\, 19802\, United States
ATTACH;FMTTYPE=image/jpeg:https://lukefleming.com/wp-content/uploads/2022/04/Serafin-Summer-Music.jpeg
END:VEVENT
BEGIN:VEVENT
DTSTART;TZID=America/New_York:20220531T190000
DTEND;TZID=America/New_York:20220531T200000
DTSTAMP:20260425T092445
CREATED:20220429T030054Z
LAST-MODIFIED:20220505T211218Z
UID:963-1654023600-1654027200@lukefleming.com
SUMMARY:Recital with Lott Quartet at Leura Hill Eastman Performing Arts Center - Fryeburg\, ME
DESCRIPTION:For more information on this event and to purchase tickets\, please click here. \nFor more information on the Lott Quartet\, please click here.
URL:https://lukefleming.com/calendar/lott-leaura-hill-eastman-pac-2022/
LOCATION:Leura Hill Eastman Performing Arts Center\, 18 Bradley St.\, Fryeburg\, ME\, 04037\, United States
ATTACH;FMTTYPE=image/png:https://lukefleming.com/wp-content/uploads/2022/04/ME-Concerts-2022-Poster-2.png
END:VEVENT
END:VCALENDAR