BEGIN:VCALENDAR
VERSION:2.0
PRODID:-//Luke Fleming - ECPv6.15.1.1//NONSGML v1.0//EN
CALSCALE:GREGORIAN
METHOD:PUBLISH
X-WR-CALNAME:Luke Fleming
X-ORIGINAL-URL:https://lukefleming.com
X-WR-CALDESC:Events for Luke Fleming
REFRESH-INTERVAL;VALUE=DURATION:PT1H
X-Robots-Tag:noindex
X-PUBLISHED-TTL:PT1H
BEGIN:VTIMEZONE
TZID:America/New_York
BEGIN:DAYLIGHT
TZOFFSETFROM:-0500
TZOFFSETTO:-0400
TZNAME:EDT
DTSTART:20240310T070000
END:DAYLIGHT
BEGIN:STANDARD
TZOFFSETFROM:-0400
TZOFFSETTO:-0500
TZNAME:EST
DTSTART:20241103T060000
END:STANDARD
END:VTIMEZONE
BEGIN:VEVENT
DTSTART;VALUE=DATE:20240830
DTEND;VALUE=DATE:20240902
DTSTAMP:20260425T150933
CREATED:20240421T174734Z
LAST-MODIFIED:20240421T174734Z
UID:1216-1724976000-1725235199@lukefleming.com
SUMMARY:Co-Artistic Director and Violist of Lily Rock Chamber Music Festival - Idyllwild\, CA
DESCRIPTION:For more information about the Lily Rock Chamber Music Festival\, please click here.
URL:https://lukefleming.com/calendar/lily-rock-2024/
LOCATION:Lily Rock Chamber Music Festival\, Idyllwild-Pine Cove\, CA\, 92549\, United States
ATTACH;FMTTYPE=image/png:https://lukefleming.com/wp-content/uploads/2023/08/Lily-Rock-2023-Save-Date-Small.png
END:VEVENT
BEGIN:VEVENT
DTSTART;VALUE=DATE:20240906
DTEND;VALUE=DATE:20240908
DTSTAMP:20260425T150933
CREATED:20240428T215329Z
LAST-MODIFIED:20240428T221021Z
UID:1221-1725580800-1725753599@lukefleming.com
SUMMARY:Two Recitals with the Manhattan Chamber Players at Grand Canyon Music Festival - Grand Canyon Village\, AZ
DESCRIPTION:For more information about the Grand Canyon Music Festival\, please click here. \nFor more information about the Manhattan Chamber Players\, please click here.
URL:https://lukefleming.com/calendar/grand-canyon-mcp-2024/
LOCATION:Shrine of the Ages\, 20 S. Entrance Rd\, Grand Canyon Village\, AZ\, 86023\, United States
ATTACH;FMTTYPE=image/jpeg:https://lukefleming.com/wp-content/uploads/2018/04/Grand-Canyon.jpg
END:VEVENT
END:VCALENDAR