BEGIN:VCALENDAR
VERSION:2.0
PRODID:-//Luke Fleming - ECPv6.15.1.1//NONSGML v1.0//EN
CALSCALE:GREGORIAN
METHOD:PUBLISH
X-WR-CALNAME:Luke Fleming
X-ORIGINAL-URL:https://lukefleming.com
X-WR-CALDESC:Events for Luke Fleming
REFRESH-INTERVAL;VALUE=DURATION:PT1H
X-Robots-Tag:noindex
X-PUBLISHED-TTL:PT1H
BEGIN:VTIMEZONE
TZID:America/New_York
BEGIN:DAYLIGHT
TZOFFSETFROM:-0500
TZOFFSETTO:-0400
TZNAME:EDT
DTSTART:20250309T070000
END:DAYLIGHT
BEGIN:STANDARD
TZOFFSETFROM:-0400
TZOFFSETTO:-0500
TZNAME:EST
DTSTART:20251102T060000
END:STANDARD
END:VTIMEZONE
BEGIN:VEVENT
DTSTART;TZID=America/New_York:20250126T150000
DTEND;TZID=America/New_York:20250126T163000
DTSTAMP:20260425T092602
CREATED:20241106T163946Z
LAST-MODIFIED:20241106T163946Z
UID:1237-1737903600-1737909000@lukefleming.com
SUMMARY:Recital with the Manhattan Chamber Players for the Museum of Jewish Heritage - New York\, NY
DESCRIPTION:For more information about this event\, please click here. \nFor more information on the Manhattan Chamber Players\, please click here.
URL:https://lukefleming.com/calendar/mcp-museum-jewish-heritage-1-26-25/
LOCATION:Museum of Jewish Heritage\, 36 Battery Place\, New York\, NY\, 10280\, United States
ATTACH;FMTTYPE=image/jpeg:https://lukefleming.com/wp-content/uploads/2024/11/Museum-Jewish-Heritage-Pic.jpeg
END:VEVENT
END:VCALENDAR