BEGIN:VCALENDAR
VERSION:2.0
PRODID:-//Luke Fleming - ECPv6.15.1.1//NONSGML v1.0//EN
CALSCALE:GREGORIAN
METHOD:PUBLISH
X-ORIGINAL-URL:https://lukefleming.com
X-WR-CALDESC:Events for Luke Fleming
REFRESH-INTERVAL;VALUE=DURATION:PT1H
X-Robots-Tag:noindex
X-PUBLISHED-TTL:PT1H
BEGIN:VTIMEZONE
TZID:America/New_York
BEGIN:DAYLIGHT
TZOFFSETFROM:-0500
TZOFFSETTO:-0400
TZNAME:EDT
DTSTART:20250309T070000
END:DAYLIGHT
BEGIN:STANDARD
TZOFFSETFROM:-0400
TZOFFSETTO:-0500
TZNAME:EST
DTSTART:20251102T060000
END:STANDARD
END:VTIMEZONE
BEGIN:VTIMEZONE
TZID:America/Los_Angeles
BEGIN:DAYLIGHT
TZOFFSETFROM:-0800
TZOFFSETTO:-0700
TZNAME:PDT
DTSTART:20250309T100000
END:DAYLIGHT
BEGIN:STANDARD
TZOFFSETFROM:-0700
TZOFFSETTO:-0800
TZNAME:PST
DTSTART:20251102T090000
END:STANDARD
END:VTIMEZONE
BEGIN:VEVENT
DTSTART;VALUE=DATE:20250728
DTEND;VALUE=DATE:20250803
DTSTAMP:20260424T225153
CREATED:20250720T224655Z
LAST-MODIFIED:20250721T001758Z
UID:1332-1753660800-1754179199@lukefleming.com
SUMMARY:Viola and Chamber Music Faculty at Festival del Lago - Ajijic\, Mexico
DESCRIPTION:For more information about the Festival del Lago\, please click here.
URL:https://lukefleming.com/calendar/festival-del-lago-25/
LOCATION:Festival del Lago\, Ajijic\, Jalisco\, Mexico
ATTACH;FMTTYPE=image/png:https://lukefleming.com/wp-content/uploads/2018/02/Festival-del-Lago.png
END:VEVENT
BEGIN:VEVENT
DTSTART;TZID=America/New_York:20250805T193000
DTEND;TZID=America/New_York:20250805T213000
DTSTAMP:20260424T225153
CREATED:20250721T003121Z
LAST-MODIFIED:20250721T003323Z
UID:1334-1754422200-1754429400@lukefleming.com
SUMMARY:Recital with the Manhattan Chamber Players for Summer Music from Greensboro - Greensboro\, VT
DESCRIPTION:For more information about Summer Music from Greensboro\, and to purchase tickets for this event\, please click here. \nFor more information about the Manhattan Chamber Players\, please click here. \nProgram: \nW.A. Mozart (1756 – 1797)\nFlute Quartet No. 4 in A major\, K. 298 (1787) \nLudwig van Beethoven (1770 – 1827)\nSerenade for Flute\, Violin\, and Viola in D major\, Op. 25 (1801) \nIntermission \nFrançois Devienne (1759 – 1803)\nDuo for Flute and Viola in C minor\, Op. 5 no. 3 (1786) \nW.A. Mozart (1756 – 1791)\nFlute Quartet No. 1 in D major\, K. 285 (1778) \nManhattan Chamber Players \nGrace Park\, Violin\nLuke Fleming\, Viola\nAbigail Monroe\, Cello\nMelissa Baker\, Flute
URL:https://lukefleming.com/calendar/mcp-greensboro-vt-2025/
LOCATION:Greensboro United Church of Christ\, 165 E. Craftsbury Rd.\, Greensboro\, VT\, 05841\, United States
ATTACH;FMTTYPE=image/jpeg:https://lukefleming.com/wp-content/uploads/2017/01/MCP-Group-Headshot-1.jpg
END:VEVENT
BEGIN:VEVENT
DTSTART;TZID=America/New_York:20250807T190000
DTEND;TZID=America/New_York:20250807T210000
DTSTAMP:20260424T225153
CREATED:20250721T004156Z
LAST-MODIFIED:20250721T004156Z
UID:1338-1754593200-1754600400@lukefleming.com
SUMMARY:Recital with the Manhattan Chamber Players for Summer Music Associates - New London\, NH
DESCRIPTION:For more information about Summer Music Associates\, and to purchase tickets for this event\, please click here. \nFor more information about the Manhattan Chamber Players\, please click here. \nProgram: \nW.A. Mozart (1756 – 1797)\nFlute Quartet No. 4 in A major\, K. 298 (1787) \nLudwig van Beethoven (1770 – 1827)\nSerenade for Flute\, Violin\, and Viola in D major\, Op. 25 (1801) \nIntermission \nFrançois Devienne (1759 – 1803)\nDuo for Flute and Viola in C minor\, Op. 5 no. 3 (1786) \nW.A. Mozart (1756 – 1791)\nFlute Quartet No. 1 in D major\, K. 285 (1778) \nManhattan Chamber Players \nGrace Park\, Violin\nLuke Fleming\, Viola\nAbigail Monroe\, Cello\nMelissa Baker\, Flute
URL:https://lukefleming.com/calendar/mcp-new-london-nh-2025/
LOCATION:First Baptist Church\, 461 Main St\, New London\, NH\, 03257\, United States
ATTACH;FMTTYPE=image/jpeg:https://lukefleming.com/wp-content/uploads/2017/01/MCP-Group-Headshot-1.jpg
END:VEVENT
BEGIN:VEVENT
DTSTART;TZID=America/Los_Angeles:20250829T180000
DTEND;TZID=America/Los_Angeles:20250829T193000
DTSTAMP:20260424T225153
CREATED:20250812T211258Z
LAST-MODIFIED:20250812T211258Z
UID:1346-1756490400-1756495800@lukefleming.com
SUMMARY:Recital No. 1 with the Manhattan Chamber Players for the Lily Rock Chamber Music Festival - Idyllwild\, CA
DESCRIPTION:For more information on the Lily Rock Chamber Music Festival\,\nplease click here. \nFor more information on the Manhattan Chamber Players\, please click here. \nProgram: \nMary Bianco (b. 1938)\nTrio for Clarinet\, Cello\, and Piano (2025) – World Premiere Performance \nRobert Schumann (1810 – 1856)\nFantasiestücke (Fantasy Pieces)\, Op. 73 (1849) \nJohannes Brahms (1833 – 1897)\nTwo Songs for Contralto\, Viola\, and Piano\, Op. 91 (1884) \nI. Gestillte Sehnsucht (“Quelled Longing”)\nII. Geistliches Wiegenlied (“Sacred Lullaby”) \nIntermission \nJohnannes Brahms (1833 – 1897)\nPiano Quartet No. 1 in G minor\, Op. 25 (1861) \nManhattan Chamber Players \nFaylotte Joy Crayton\, Soprano\nMark Dover\, Clarinet\nBrendan Speltz\, Violin\nLuke Fleming\, Viola\nAbigail Monroe\, Cello\nBrook Speltz\, Cello\nMika Sasaki\, Piano
URL:https://lukefleming.com/calendar/mcp-lily-rock-2025-1/
LOCATION:William M. Lowman Concert Hall\, Idyllwild Arts Academy\, Idyllwild-Pine Cove\, CA\, 92549\, United States
ATTACH;FMTTYPE=image/jpeg:https://lukefleming.com/wp-content/uploads/2025/08/Lily-Rock-2025-Collage-Black.jpeg
END:VEVENT
BEGIN:VEVENT
DTSTART;TZID=America/Los_Angeles:20250830T180000
DTEND;TZID=America/Los_Angeles:20250830T193000
DTSTAMP:20260424T225153
CREATED:20250812T211026Z
LAST-MODIFIED:20250821T220636Z
UID:1342-1756576800-1756582200@lukefleming.com
SUMMARY:Recital No. 2 with the Manhattan Chamber Players for the Lily Rock Chamber Music Festival - Idyllwild\, CA
DESCRIPTION:For more information on the Lily Rock Chamber Music Festival\,\nplease click here. \nFor more information on the Manhattan Chamber Players\, please click here. \nProgram: \nJohnannes Brahms (1833 – 1897)\nCello Sonata No. 1 in E minor\, Op. 38 (1865) \nErnest Chausson (1855 – 1899)\nChanson Perpétuelle (“Endless Song”) (1899) \nIntermission \nRobert Schumann (1810 – 1856)\nPiano Quintet in Eb major\, Op. 44 (1842) \nManhattan Chamber Players \nFaylotte Joy Crayton\, Soprano\nMark Dover\, Clarinet\nGrace Park\, Violin\nBrendan Speltz\, Violin\nLuke Fleming\, Viola\nBrook Speltz\, Cello\nMika Sasaki\, Piano \nwith \nDaniela Díaz\, Violin\nConnie Kupka\, Violin\nKaila Potts-Smith\, Viola\nAbigail Monroe\, Cello\nDavid Speltz\, Cello
URL:https://lukefleming.com/calendar/mcp-lily-rock-2025-2/
LOCATION:William M. Lowman Concert Hall\, Idyllwild Arts Academy\, Idyllwild-Pine Cove\, CA\, 92549\, United States
ATTACH;FMTTYPE=image/jpeg:https://lukefleming.com/wp-content/uploads/2025/08/Lily-Rock-2025-Collage-Black.jpeg
END:VEVENT
BEGIN:VEVENT
DTSTART;TZID=America/Los_Angeles:20250831T130000
DTEND;TZID=America/Los_Angeles:20250831T143000
DTSTAMP:20260424T225153
CREATED:20250812T211929Z
LAST-MODIFIED:20250813T153250Z
UID:1348-1756645200-1756650600@lukefleming.com
SUMMARY:Recital No. 3 with the Manhattan Chamber Players for the Lily Rock Chamber Music Festival - Idyllwild\, CA
DESCRIPTION:For more information on the Lily Rock Chamber Music Festival\, please click here. \nFor more information on the Manhattan Chamber Players\, please click here. \nProgram: \nRalph Vaughan Williams (1872 – 1958)\nThe Lark Ascending (1903) \nOttorino Respighi (1879 – 1936)\nIl Tramonto (“The Sunset”) (1914) \nIntermission \nJohannes Brahms (1833 – 1897)\nClarinet Quintet in B minor\, Op. 115 (1891) \nManhattan Chamber Players \nFaylotte Joy Crayton\, Soprano\nMark Dover\, Clarinet\nGrace Park\, Violin\nBrendan Speltz\, Violin\nLuke Fleming\, Viola\nBrook Speltz\, Cello \nwith \nConnie Kupka\, Violin/Viola\nAbigail Monroe\, Cello\nDavid Speltz\, Cello
URL:https://lukefleming.com/calendar/mcp-lily-rock-2025-3/
LOCATION:St. Hugh’s Episcopal Church\, 25525 Tahquitz Dr\, Idyllwild-Pine Cove\, CA\, 92549\, United States
ATTACH;FMTTYPE=image/jpeg:https://lukefleming.com/wp-content/uploads/2025/08/Lily-Rock-2025-Collage-Black.jpeg
END:VEVENT
END:VCALENDAR