BEGIN:VCALENDAR
VERSION:2.0
PRODID:-//Luke Fleming - ECPv6.15.1.1//NONSGML v1.0//EN
CALSCALE:GREGORIAN
METHOD:PUBLISH
X-ORIGINAL-URL:https://lukefleming.com
X-WR-CALDESC:Events for Luke Fleming
REFRESH-INTERVAL;VALUE=DURATION:PT1H
X-Robots-Tag:noindex
X-PUBLISHED-TTL:PT1H
BEGIN:VTIMEZONE
TZID:America/Los_Angeles
BEGIN:DAYLIGHT
TZOFFSETFROM:-0800
TZOFFSETTO:-0700
TZNAME:PDT
DTSTART:20250309T100000
END:DAYLIGHT
BEGIN:STANDARD
TZOFFSETFROM:-0700
TZOFFSETTO:-0800
TZNAME:PST
DTSTART:20251102T090000
END:STANDARD
END:VTIMEZONE
BEGIN:VTIMEZONE
TZID:America/New_York
BEGIN:DAYLIGHT
TZOFFSETFROM:-0500
TZOFFSETTO:-0400
TZNAME:EDT
DTSTART:20250309T070000
END:DAYLIGHT
BEGIN:STANDARD
TZOFFSETFROM:-0400
TZOFFSETTO:-0500
TZNAME:EST
DTSTART:20251102T060000
END:STANDARD
END:VTIMEZONE
BEGIN:VTIMEZONE
TZID:America/Phoenix
BEGIN:STANDARD
TZOFFSETFROM:-0700
TZOFFSETTO:-0700
TZNAME:MST
DTSTART:20250101T000000
END:STANDARD
END:VTIMEZONE
BEGIN:VEVENT
DTSTART;TZID=America/Los_Angeles:20251101T193000
DTEND;TZID=America/Los_Angeles:20251101T213000
DTSTAMP:20260424T182734
CREATED:20250926T225434Z
LAST-MODIFIED:20250926T225434Z
UID:1389-1762025400-1762032600@lukefleming.com
SUMMARY:Recital with the Escher Quartet for Chamber Music Monterey Bay - Carmel-by-the-Sea\, CA
DESCRIPTION:For more information on Chamber Music Monterey Bay and to purchase tickets\, please click here. \nProgram: \nW.A. Mozart (1756 – 1791)\nString Quartet in Eb major\, K. 428 (1783) \nChris Rogerson (b. 1988)\nString Quintet (2025) – Co-Commissioned by Chamber Music Monterey Bay for the 2025-2026 season \nIntermission \nJohannes Brahms (1833 – 1897)\nString Quintet No. 2 in G major\, Op. 111 (1890) \nEscher Quartet \nAdam Barnett-Hart\, Violin I\nBryan Lee\, Violin II\nPierre Lapointe\, Viola\nBrook Speltz\, Cello \nwith \nLuke Fleming\, Viola
URL:https://lukefleming.com/calendar/cmmb-11-1-2025/
LOCATION:Sunset Center\, San Carlos Street\, Carmel-by-the-Sea\, CA\, 93923\, United States
ATTACH;FMTTYPE=image/jpeg:https://lukefleming.com/wp-content/uploads/2025/09/Luke-Escher-CMMB-Pic.jpeg
END:VEVENT
BEGIN:VEVENT
DTSTART;TZID=America/New_York:20251112T193000
DTEND;TZID=America/New_York:20251112T213000
DTSTAMP:20260424T182734
CREATED:20251023T182001Z
LAST-MODIFIED:20251023T185051Z
UID:1394-1762975800-1762983000@lukefleming.com
SUMMARY:Recital with the Manhattan Chamber Players at Baruch Performing Arts Center - New York\, NY
DESCRIPTION:Doors Open: 6:30 PM\nPre-Concert Talk: 7 PM\nConcert: 7:30 PM \nGeneral Admission: $20 at the door\nStudents and Children: FREE \nAdvance ticketing link posted here two weeks before the concert \nProgram: \nRobert Schumann (1810 – 1856)\nFantasiestücke (Fantasy Pieces)\, Op. 73 (1849) \nAntonín Dvořák (1841 – 1904)\nPiano Quartet No. 2 in Eb major\, Op. 87 (1889) \nIntermission \nJohnannes Brahms (1833 – 1897)\nPiano Quartet No. 1 in G minor\, Op. 25 (1861) \nManhattan Chamber Players \nAdam Golka\, Piano\nSiwoo Kim\, Violin\nLuke Fleming\, Viola\nAndrew Janss\, Cello
URL:https://lukefleming.com/calendar/mcp-baruch-11-12-25/
LOCATION:Engelman Recital Hall\, Baruch Performing Arts Center\, 55 Lexington Ave.\, New York\, NY\, 10010\, United States
ATTACH;FMTTYPE=image/jpeg:https://lukefleming.com/wp-content/uploads/2025/10/3.jpg
END:VEVENT
BEGIN:VEVENT
DTSTART;TZID=America/Phoenix:20251114T193000
DTEND;TZID=America/Phoenix:20251114T213000
DTSTAMP:20260424T182734
CREATED:20250926T221653Z
LAST-MODIFIED:20250926T221813Z
UID:1384-1763148600-1763155800@lukefleming.com
SUMMARY:Recital with the Manhattan Chamber Players for the Chamber Music Society of Salt Lake City - Salt Lake City\, UT
DESCRIPTION:For more information on the Chamber Music Society of Salt Lake City\, and to purchase tickets\, please click here. \nFor more information on the Manhattan Chamber Players\, please click here. \nProgram: \nRobert Schumann (1810 – 1856)\nFantasiestücke (Fantasy Pieces)\, Op. 73 (1849) \nAntonín Dvořák (1841 – 1904)\nPiano Quartet No. 2 in Eb major\, Op. 87 (1889) \nIntermission \nJohnannes Brahms (1833 – 1897)\nPiano Quartet No. 1 in G minor\, Op. 25 (1861) \nManhattan Chamber Players \nAdam Golka\, Piano\nKatie Hyun\, Violin\nLuke Fleming\, Viola\nAndrew Janss\, Cello
URL:https://lukefleming.com/calendar/mcp-cmsslc-11-14-2025/
LOCATION:Libby Gardner Concert Hall\, 1375 Presidents' Circle\, Salt Lake City\, UT\, 84112\, United States
END:VEVENT
END:VCALENDAR