BEGIN:VCALENDAR
VERSION:2.0
PRODID:-//Luke Fleming - ECPv6.15.1.1//NONSGML v1.0//EN
CALSCALE:GREGORIAN
METHOD:PUBLISH
X-WR-CALNAME:Luke Fleming
X-ORIGINAL-URL:https://lukefleming.com
X-WR-CALDESC:Events for Luke Fleming
REFRESH-INTERVAL;VALUE=DURATION:PT1H
X-Robots-Tag:noindex
X-PUBLISHED-TTL:PT1H
BEGIN:VTIMEZONE
TZID:America/New_York
BEGIN:DAYLIGHT
TZOFFSETFROM:-0500
TZOFFSETTO:-0400
TZNAME:EDT
DTSTART:20260308T070000
END:DAYLIGHT
BEGIN:STANDARD
TZOFFSETFROM:-0400
TZOFFSETTO:-0500
TZNAME:EST
DTSTART:20261101T060000
END:STANDARD
END:VTIMEZONE
BEGIN:VEVENT
DTSTART;TZID=America/New_York:20260129T193000
DTEND;TZID=America/New_York:20260129T210000
DTSTAMP:20260424T153125
CREATED:20251217T231456Z
LAST-MODIFIED:20251217T231703Z
UID:1412-1769715000-1769720400@lukefleming.com
SUMMARY:Recital with the Amernet Quartet - Coral Gables\, FL
DESCRIPTION:For more information on this program and to purchase tickets\, please click here. \nProgram: \nW.A. Mozart (1756 – 1791)\nString Quintet in G minor\, K. 516 (1787) \nIntermission \nFelix Mendelssohn (1809 – 1847)\nString Quintet No. 2 in Bb major\, Op. 87 (1845)
URL:https://lukefleming.com/calendar/amernet-1-29-26/
ATTACH;FMTTYPE=image/jpeg:https://lukefleming.com/wp-content/uploads/2025/12/Amernet-Logo.jpeg
END:VEVENT
END:VCALENDAR